FILENAME: O4611252.SES.1076838.tif
QUADRANGLE_NAME: LOCKHART MEADOWS
QUADRANT: SE
WEST_LONGITUDE: -112 33 45.00000
EAST_LONGITUDE: -112 30 0.00000
NORTH_LATITUDE: 46 11 15.00000
SOUTH_LATITUDE: 46 7 30.00000
PRODUCTION_DATE: 2000 3 21
RASTER_ORDER: LEFT_RIGHT/TOP_BOTTOM
BAND_ORGANIZATION: SINGLE FILE
BAND_CONTENT: BLACK&WHITE
BAND_CONTENT: UNDEFINED
BAND_CONTENT: UNDEFINED
BITS_PER_PIXEL: 8
SAMPLES_AND_LINES: 5630 7647
HORIZONTAL_DATUM: NAD83
HORIZONTAL_COORDINATE_SYSTEM: UTM
COORDINATE_ZONE: 12
HORIZONTAL_UNITS: METERS
HORIZONTAL_RESOLUTION: 1.00000
SECONDARY_HORIZONTAL_DATUM: NAD27
XY_ORIGIN: 378917.00000 5116367.00000
SECONDARY_XY_ORIGIN: 378979.89300 5116155.68200
NATION: US
NATION: "SCIENCE
STATE: MT
NW_QUAD_CORNER_XY: 379421.93000 5116066.93400
NE_QUAD_CORNER_XY: 384245.00800 5115973.89700
SE_QUAD_CORNERY_XY: 384113.85700 5109029.62100
SW_QUAD_CORNER_XY: 379285.31300 5109122.66500
SECONDARY_NW_QUAD_XY: 379418.27800 5115848.87600
SECONDARY_NE_QUAD_XY: 384241.50200 5115755.83700
SECONDARY_SE_QUAD_XY: 384110.35200 5108811.60000
SECONDARY_SW_QUAD_XY: 379281.66100 5108904.64700
RMSE_XY: 2.40000
IMAGE_SOURCE: BLACK AND WHITE FILM
SOURCE_IMAGE_ID: NAPP 9486 117
SOURCE_IMAGE_DATE: 1995 08 20
SOURCE_DEM_DATE: 1954 00 00
AGENCY: WESTERN MAPPING CENTER (WMC)
PRODUCER: UNDEFINED
PRODUCTION_SYSTEM: GIS/MAGIC
COMPRESSION: UNDEFINED
STANDARD_VERSION: 1996 12
METADATA_DATE: 2000 05 29
DATA_FILE_SIZE: 43058240
BYTE_COUNT: 5630
