FILENAME: O4611251.NES.1076824.tif
QUADRANGLE_NAME: OROFINO MOUNTAIN
QUADRANT: NE
WEST_LONGITUDE: -112 41 15.00000
EAST_LONGITUDE: -112 37 30.00000
NORTH_LATITUDE: 46 15 0.00000
SOUTH_LATITUDE: 46 11 15.00000
PRODUCTION_DATE: 2000 3 21
RASTER_ORDER: LEFT_RIGHT/TOP_BOTTOM
BAND_ORGANIZATION: SINGLE FILE
BAND_CONTENT: BLACK&WHITE
BAND_CONTENT: UNDEFINED
BAND_CONTENT: UNDEFINED
BITS_PER_PIXEL: 8
SAMPLES_AND_LINES: 5636 7654
HORIZONTAL_DATUM: NAD83
HORIZONTAL_COORDINATE_SYSTEM: UTM
COORDINATE_ZONE: 12
HORIZONTAL_UNITS: METERS
HORIZONTAL_RESOLUTION: 1.00000
SECONDARY_HORIZONTAL_DATUM: NAD27
XY_ORIGIN: 369407.00000 5123509.00000
SECONDARY_XY_ORIGIN: 369470.15300 5123297.66100
NATION: US
NATION: "SCIENCE
STATE: MT
NW_QUAD_CORNER_XY: 369923.50100 5123208.72600
NE_QUAD_CORNER_XY: 374741.09400 5123108.10000
SE_QUAD_CORNERY_XY: 374598.85800 5116163.77000
SW_QUAD_CORNER_XY: 369775.79200 5116264.40500
SECONDARY_NW_QUAD_XY: 369919.55600 5122990.63600
SECONDARY_NE_QUAD_XY: 374737.29400 5122890.00700
SECONDARY_SE_QUAD_XY: 374595.06000 5115945.71500
SECONDARY_SW_QUAD_XY: 369771.84800 5116046.35300
RMSE_XY: 1.70000
IMAGE_SOURCE: BLACK AND WHITE FILM
SOURCE_IMAGE_ID: NAPP 8382 052
SOURCE_IMAGE_DATE: 1995 08 01
SOURCE_IMAGE_ID: NAPP 8382 053
SOURCE_IMAGE_DATE: 1995 08 01
SOURCE_DEM_DATE: 1954 00 00
AGENCY: WESTERN MAPPING CENTER (WMC)
PRODUCER: UNDEFINED
PRODUCTION_SYSTEM: GIS/MAGIC
COMPRESSION: UNDEFINED
STANDARD_VERSION: 1996 12
METADATA_DATE: 2000 05 29
DATA_FILE_SIZE: 43143580
BYTE_COUNT: 5636
