FILENAME: O4611251.NWS.1076825.tif
QUADRANGLE_NAME: OROFINO MOUNTAIN
QUADRANT: NW
WEST_LONGITUDE: -112 45 0.00000
EAST_LONGITUDE: -112 41 15.00000
NORTH_LATITUDE: 46 15 0.00000
SOUTH_LATITUDE: 46 11 15.00000
PRODUCTION_DATE: 2000 3 21
RASTER_ORDER: LEFT_RIGHT/TOP_BOTTOM
BAND_ORGANIZATION: SINGLE FILE
BAND_CONTENT: BLACK&WHITE
BAND_CONTENT: UNDEFINED
BAND_CONTENT: UNDEFINED
BITS_PER_PIXEL: 8
SAMPLES_AND_LINES: 5641 7659
HORIZONTAL_DATUM: NAD83
HORIZONTAL_COORDINATE_SYSTEM: UTM
COORDINATE_ZONE: 12
HORIZONTAL_UNITS: METERS
HORIZONTAL_RESOLUTION: 1.00000
SECONDARY_HORIZONTAL_DATUM: NAD27
XY_ORIGIN: 364584.00000 5123614.00000
SECONDARY_XY_ORIGIN: 364647.28200 5123402.69400
NATION: US
NATION: "SCIENCE
STATE: MT
NW_QUAD_CORNER_XY: 365105.91500 5123313.15200
NE_QUAD_CORNER_XY: 369923.50100 5123208.72600
SE_QUAD_CORNERY_XY: 369775.79200 5116264.40500
SW_QUAD_CORNER_XY: 364952.73300 5116368.84000
SECONDARY_NW_QUAD_XY: 365101.82400 5123095.06400
SECONDARY_NE_QUAD_XY: 369919.55600 5122990.63600
SECONDARY_SE_QUAD_XY: 369771.84800 5116046.35300
SECONDARY_SW_QUAD_XY: 364948.64200 5116150.79100
RMSE_XY: 1.40000
IMAGE_SOURCE: BLACK AND WHITE FILM
SOURCE_IMAGE_ID: NAPP 9485 042
SOURCE_IMAGE_DATE: 1995 08 20
SOURCE_IMAGE_ID: NAPP 8382 053
SOURCE_IMAGE_DATE: 1995 08 01
SOURCE_DEM_DATE: 1954 00 00
AGENCY: WESTERN MAPPING CENTER (WMC)
PRODUCER: UNDEFINED
PRODUCTION_SYSTEM: GIS/MAGIC
COMPRESSION: UNDEFINED
STANDARD_VERSION: 1996 12
METADATA_DATE: 2000 05 29
DATA_FILE_SIZE: 43210060
BYTE_COUNT: 5641
