FILENAME: O4611251.SES.1076826.tif
QUADRANGLE_NAME: OROFINO MOUNTAIN
QUADRANT: SE
WEST_LONGITUDE: -112 41 15.00000
EAST_LONGITUDE: -112 37 30.00000
NORTH_LATITUDE: 46 11 15.00000
SOUTH_LATITUDE: 46 7 30.00000
PRODUCTION_DATE: 2000 3 21
RASTER_ORDER: LEFT_RIGHT/TOP_BOTTOM
BAND_ORGANIZATION: SINGLE FILE
BAND_CONTENT: BLACK&WHITE
BAND_CONTENT: UNDEFINED
BAND_CONTENT: UNDEFINED
BITS_PER_PIXEL: 8
SAMPLES_AND_LINES: 5640 7655
HORIZONTAL_DATUM: NAD83
HORIZONTAL_COORDINATE_SYSTEM: UTM
COORDINATE_ZONE: 12
HORIZONTAL_UNITS: METERS
HORIZONTAL_RESOLUTION: 1.00000
SECONDARY_HORIZONTAL_DATUM: NAD27
XY_ORIGIN: 369260.00000 5116565.00000
SECONDARY_XY_ORIGIN: 369323.13600 5116353.72300
NATION: US
NATION: "SCIENCE
STATE: MT
NW_QUAD_CORNER_XY: 369775.79200 5116264.40500
NE_QUAD_CORNER_XY: 374598.85800 5116163.77000
SE_QUAD_CORNERY_XY: 374456.77300 5109219.50900
SW_QUAD_CORNER_XY: 369628.24000 5109320.15300
SECONDARY_NW_QUAD_XY: 369771.84800 5116046.35300
SECONDARY_NE_QUAD_XY: 374595.06000 5115945.71500
SECONDARY_SE_QUAD_XY: 374452.97600 5109001.49400
SECONDARY_SW_QUAD_XY: 369624.29600 5109102.14100
RMSE_XY: 2.10000
IMAGE_SOURCE: BLACK AND WHITE FILM
SOURCE_IMAGE_ID: NAPP 8382 050
SOURCE_IMAGE_DATE: 1995 08 01
SOURCE_IMAGE_ID: NAPP 8382 073
SOURCE_IMAGE_DATE: 1995 08 01
SOURCE_DEM_DATE: 1954 00 00
AGENCY: WESTERN MAPPING CENTER (WMC)
PRODUCER: UNDEFINED
PRODUCTION_SYSTEM: GIS/MAGIC
COMPRESSION: UNDEFINED
STANDARD_VERSION: 1996 12
METADATA_DATE: 2000 05 29
DATA_FILE_SIZE: 43179840
BYTE_COUNT: 5640
