FILENAME: O4611249.NES.1076928.tif
QUADRANGLE_NAME: ANACONDA NORTH
QUADRANT: NE
WEST_LONGITUDE: -112 56 15.00000
EAST_LONGITUDE: -112 52 30.00000
NORTH_LATITUDE: 46 15 0.00000
SOUTH_LATITUDE: 46 11 15.00000
PRODUCTION_DATE: 2000 4 18
RASTER_ORDER: LEFT_RIGHT/TOP_BOTTOM
BAND_ORGANIZATION: SINGLE FILE
BAND_CONTENT: BLACK&WHITE
BAND_CONTENT: UNDEFINED
BAND_CONTENT: UNDEFINED
BITS_PER_PIXEL: 8
SAMPLES_AND_LINES: 5658 7670
HORIZONTAL_DATUM: NAD83
HORIZONTAL_COORDINATE_SYSTEM: UTM
COORDINATE_ZONE: 12
HORIZONTAL_UNITS: METERS
HORIZONTAL_RESOLUTION: 1.00000
SECONDARY_HORIZONTAL_DATUM: NAD27
XY_ORIGIN: 350114.00000 5123950.00000
SECONDARY_XY_ORIGIN: 350177.21100 5123738.41800
NATION: US
NATION: "SCIENCE
STATE: MT
NW_QUAD_CORNER_XY: 350653.20000 5123649.22700
NE_QUAD_CORNER_XY: 355470.76500 5123533.40200
SE_QUAD_CORNERY_XY: 355306.63300 5116589.11000
SW_QUAD_CORNER_XY: 350483.59400 5116704.94500
SECONDARY_NW_QUAD_XY: 350648.67000 5123431.14900
SECONDARY_NE_QUAD_XY: 355466.38100 5123315.32100
SECONDARY_SE_QUAD_XY: 355302.25000 5116371.06800
SECONDARY_SW_QUAD_XY: 350479.06500 5116486.90700
RMSE_XY: 2.00000
IMAGE_SOURCE: BLACK AND WHITE FILM
SOURCE_IMAGE_ID: NAPP 9491 092
SOURCE_IMAGE_DATE: 1995 09 01
SOURCE_IMAGE_ID: NAPP 9491 091
SOURCE_IMAGE_DATE: 1995 09 01
SOURCE_DEM_DATE: 1989 00 00
AGENCY: WESTERN MAPPING CENTER (WMC)
PRODUCER: UNDEFINED
PRODUCTION_SYSTEM: GIS/MAGIC
COMPRESSION: UNDEFINED
STANDARD_VERSION: 1996 12
METADATA_DATE: 2000 05 29
DATA_FILE_SIZE: 43402518
BYTE_COUNT: 5658
