FILENAME: O4611249.SWS.1076931.tif
QUADRANGLE_NAME: ANACONDA NORTH
QUADRANT: SW
WEST_LONGITUDE: -113 0 0.00000
EAST_LONGITUDE: -112 56 15.00000
NORTH_LATITUDE: 46 11 15.00000
SOUTH_LATITUDE: 46 7 30.00000
PRODUCTION_DATE: 2000 4 18
RASTER_ORDER: LEFT_RIGHT/TOP_BOTTOM
BAND_ORGANIZATION: SINGLE FILE
BAND_CONTENT: BLACK&WHITE
BAND_CONTENT: UNDEFINED
BAND_CONTENT: UNDEFINED
BITS_PER_PIXEL: 8
SAMPLES_AND_LINES: 5669 7673
HORIZONTAL_DATUM: NAD83
HORIZONTAL_COORDINATE_SYSTEM: UTM
COORDINATE_ZONE: 12
HORIZONTAL_UNITS: METERS
HORIZONTAL_RESOLUTION: 1.00000
SECONDARY_HORIZONTAL_DATUM: NAD27
XY_ORIGIN: 345116.00000 5117125.00000
SECONDARY_XY_ORIGIN: 345179.24600 5116913.42600
NATION: US
NATION: "SCIENCE
STATE: MT
NW_QUAD_CORNER_XY: 345660.56200 5116824.58100
NE_QUAD_CORNER_XY: 350483.59400 5116704.94500
SE_QUAD_CORNERY_XY: 350314.16700 5109760.73100
SW_QUAD_CORNER_XY: 345485.66500 5109880.37700
SECONDARY_NW_QUAD_XY: 345655.88600 5116606.54600
SECONDARY_NE_QUAD_XY: 350479.06500 5116486.90700
SECONDARY_SE_QUAD_XY: 350309.63800 5109542.73200
SECONDARY_SW_QUAD_XY: 345480.99100 5109662.38200
RMSE_XY: 1.40000
IMAGE_SOURCE: BLACK AND WHITE FILM
SOURCE_IMAGE_ID: NAPP 9485 107
SOURCE_IMAGE_DATE: 1995 08 20
SOURCE_IMAGE_ID: NAPP 9485 108
SOURCE_IMAGE_DATE: 1995 08 20
SOURCE_IMAGE_ID: NAPP 9485 106
SOURCE_IMAGE_DATE: 1995 08 20
SOURCE_DEM_DATE: 1989 00 00
AGENCY: WESTERN MAPPING CENTER (WMC)
PRODUCER: UNDEFINED
PRODUCTION_SYSTEM: GIS/MAGIC
COMPRESSION: UNDEFINED
STANDARD_VERSION: 1996 12
METADATA_DATE: 2000 05 29
DATA_FILE_SIZE: 43503906
BYTE_COUNT: 5669
