FILENAME: O4611248.SES.1076974.tif
QUADRANGLE_NAME: WICKES
QUADRANT: SE
WEST_LONGITUDE: -112 3 45.00000
EAST_LONGITUDE: -112 0 0.00000
NORTH_LATITUDE: 46 18 45.00000
SOUTH_LATITUDE: 46 15 0.00000
PRODUCTION_DATE: 2000 5 2
RASTER_ORDER: LEFT_RIGHT/TOP_BOTTOM
BAND_ORGANIZATION: SINGLE FILE
BAND_CONTENT: BLACK&WHITE
BAND_CONTENT: UNDEFINED
BAND_CONTENT: UNDEFINED
BITS_PER_PIXEL: 8
SAMPLES_AND_LINES: 5572 7617
HORIZONTAL_DATUM: NAD83
HORIZONTAL_COORDINATE_SYSTEM: UTM
COORDINATE_ZONE: 12
HORIZONTAL_UNITS: METERS
HORIZONTAL_RESOLUTION: 1.00000
SECONDARY_HORIZONTAL_DATUM: NAD27
XY_ORIGIN: 417734.00000 5129618.00000
SECONDARY_XY_ORIGIN: 417795.59400 5129406.86000
NATION: US
NATION: "SCIENCE
STATE: MT
NW_QUAD_CORNER_XY: 418192.76500 5129317.87000
NE_QUAD_CORNER_XY: 423004.93300 5129255.23200
SE_QUAD_CORNERY_XY: 422917.32500 5122310.75600
SW_QUAD_CORNER_XY: 418099.68000 5122373.40000
SECONDARY_NW_QUAD_XY: 418190.28000 5129099.71600
SECONDARY_NE_QUAD_XY: 423002.59400 5129037.07600
SECONDARY_SE_QUAD_XY: 422914.98700 5122092.63800
SECONDARY_SW_QUAD_XY: 418097.19600 5122155.28400
RMSE_XY: 1.90000
IMAGE_SOURCE: BLACK AND WHITE FILM
SOURCE_IMAGE_ID: NAPP 9483 009
SOURCE_IMAGE_DATE: 1995 08 14
SOURCE_IMAGE_ID: NAPP 9483 024
SOURCE_IMAGE_DATE: 1995 08 14
SOURCE_IMAGE_ID: NAPP 9483 023
SOURCE_IMAGE_DATE: 1995 08 14
SOURCE_IMAGE_ID: NAPP 9483 022
SOURCE_IMAGE_DATE: 1995 08 14
SOURCE_IMAGE_ID: NAPP 9491 109
SOURCE_IMAGE_DATE: 1995 09 01
SOURCE_DEM_DATE: 1980 00 00
AGENCY: WESTERN MAPPING CENTER (WMC)
PRODUCER: UNDEFINED
PRODUCTION_SYSTEM: GIS/MAGIC
COMPRESSION: UNDEFINED
STANDARD_VERSION: 1996 12
METADATA_DATE: 2000 05 31
DATA_FILE_SIZE: 42447496
BYTE_COUNT: 5572
