FILENAME: O4611247.SES.1076942.tif
QUADRANGLE_NAME: MOUNT THOMPSON
QUADRANT: SE
WEST_LONGITUDE: -112 11 15.00000
EAST_LONGITUDE: -112 7 30.00000
NORTH_LATITUDE: 46 18 45.00000
SOUTH_LATITUDE: 46 15 0.00000
PRODUCTION_DATE: 2000 5 21
RASTER_ORDER: LEFT_RIGHT/TOP_BOTTOM
BAND_ORGANIZATION: SINGLE FILE
BAND_CONTENT: BLACK&WHITE
BAND_CONTENT: UNDEFINED
BAND_CONTENT: UNDEFINED
BITS_PER_PIXEL: 8
SAMPLES_AND_LINES: 5584 7625
HORIZONTAL_DATUM: NAD83
HORIZONTAL_COORDINATE_SYSTEM: UTM
COORDINATE_ZONE: 12
HORIZONTAL_UNITS: METERS
HORIZONTAL_RESOLUTION: 1.00000
SECONDARY_HORIZONTAL_DATUM: NAD27
XY_ORIGIN: 408098.00000 5129755.00000
SECONDARY_XY_ORIGIN: 408159.90500 5129543.72600
NATION: US
NATION: "SCIENCE
STATE: MT
NW_QUAD_CORNER_XY: 408568.44200 5129454.53700
NE_QUAD_CORNER_XY: 413380.60100 5129384.30500
SE_QUAD_CORNERY_XY: 413282.04000 5122439.84100
SW_QUAD_CORNER_XY: 408464.40400 5122510.08000
SECONDARY_NW_QUAD_XY: 408565.66500 5129236.38700
SECONDARY_NE_QUAD_XY: 413377.97100 5129166.15300
SECONDARY_SE_QUAD_XY: 413279.41000 5122221.72700
SECONDARY_SW_QUAD_XY: 408461.62700 5122291.96800
RMSE_XY: 1.70000
IMAGE_SOURCE: BLACK AND WHITE FILM
SOURCE_IMAGE_ID: NAPP 8388 090
SOURCE_IMAGE_DATE: 1995 08 09
SOURCE_IMAGE_ID: NAPP 8388 091
SOURCE_IMAGE_DATE: 1995 08 09
SOURCE_IMAGE_ID: NAPP 8388 089
SOURCE_IMAGE_DATE: 1995 08 09
SOURCE_DEM_DATE: 1997 00 00
AGENCY: WESTERN MAPPING CENTER (WMC)
PRODUCER: UNDEFINED
PRODUCTION_SYSTEM: GIS/MAGIC
COMPRESSION: UNDEFINED
STANDARD_VERSION: 1996 12
METADATA_DATE: 2000 05 31
DATA_FILE_SIZE: 42583584
BYTE_COUNT: 5584
