FILENAME: O4611246.NES.1076888.tif
QUADRANGLE_NAME: BASIN
QUADRANT: NE
WEST_LONGITUDE: -112 18 45.00000
EAST_LONGITUDE: -112 15 0.00000
NORTH_LATITUDE: 46 22 30.00000
SOUTH_LATITUDE: 46 18 45.00000
PRODUCTION_DATE: 2000 5 8
RASTER_ORDER: LEFT_RIGHT/TOP_BOTTOM
BAND_ORGANIZATION: SINGLE FILE
BAND_CONTENT: BLACK&WHITE
BAND_CONTENT: UNDEFINED
BAND_CONTENT: UNDEFINED
BITS_PER_PIXEL: 8
SAMPLES_AND_LINES: 5590 7632
HORIZONTAL_DATUM: NAD83
HORIZONTAL_COORDINATE_SYSTEM: UTM
COORDINATE_ZONE: 12
HORIZONTAL_UNITS: METERS
HORIZONTAL_RESOLUTION: 1.00000
SECONDARY_HORIZONTAL_DATUM: NAD27
XY_ORIGIN: 398577.00000 5136851.00000
SECONDARY_XY_ORIGIN: 398639.19500 5136639.48700
NATION: US
NATION: "SCIENCE
STATE: MT
NW_QUAD_CORNER_XY: 399059.25300 5136550.91000
NE_QUAD_CORNER_XY: 403865.91900 5136473.09000
SE_QUAD_CORNERY_XY: 403756.28800 5129528.56700
SW_QUAD_CORNER_XY: 398944.13900 5129606.39400
SECONDARY_NW_QUAD_XY: 399056.18400 5136332.72700
SECONDARY_NE_QUAD_XY: 403862.99600 5136254.90500
SECONDARY_SE_QUAD_XY: 403753.36500 5129310.41900
SECONDARY_SW_QUAD_XY: 398941.07000 5129388.24900
RMSE_XY: 2.90000
IMAGE_SOURCE: BLACK AND WHITE FILM
SOURCE_IMAGE_ID: NAPP 9484 133
SOURCE_IMAGE_DATE: 1995 08 14
SOURCE_IMAGE_ID: NAPP 9486 104
SOURCE_IMAGE_DATE: 1995 08 20
SOURCE_IMAGE_ID: NAPP 9484 132
SOURCE_IMAGE_DATE: 1995 08 14
SOURCE_IMAGE_ID: NAPP 9484 137
SOURCE_IMAGE_DATE: 1995 08 14
SOURCE_IMAGE_ID: NAPP 9484 136
SOURCE_IMAGE_DATE: 1995 08 14
SOURCE_DEM_DATE: 1985 00 00
AGENCY: WESTERN MAPPING CENTER (WMC)
PRODUCER: UNDEFINED
PRODUCTION_SYSTEM: GIS/MAGIC
COMPRESSION: UNDEFINED
STANDARD_VERSION: 1996 12
METADATA_DATE: 2000 05 31
DATA_FILE_SIZE: 42668470
BYTE_COUNT: 5590
