FILENAME: O4611245.SWS.1076867.tif
QUADRANGLE_NAME: THUNDERBOLT CREEK
QUADRANT: SW
WEST_LONGITUDE: -112 30 0.00000
EAST_LONGITUDE: -112 26 15.00000
NORTH_LATITUDE: 46 18 45.00000
SOUTH_LATITUDE: 46 15 0.00000
PRODUCTION_DATE: 2000 5 4
RASTER_ORDER: LEFT_RIGHT/TOP_BOTTOM
BAND_ORGANIZATION: SINGLE FILE
BAND_CONTENT: BLACK&WHITE
BAND_CONTENT: UNDEFINED
BAND_CONTENT: UNDEFINED
BITS_PER_PIXEL: 8
SAMPLES_AND_LINES: 5612 7643
HORIZONTAL_DATUM: NAD83
HORIZONTAL_COORDINATE_SYSTEM: UTM
COORDINATE_ZONE: 12
HORIZONTAL_UNITS: METERS
HORIZONTAL_RESOLUTION: 1.00000
SECONDARY_HORIZONTAL_DATUM: NAD27
XY_ORIGIN: 384009.00000 5130163.00000
SECONDARY_XY_ORIGIN: 384071.72800 5129951.45900
NATION: US
NATION: "SCIENCE
STATE: MT
NW_QUAD_CORNER_XY: 384507.72500 5129862.66400
NE_QUAD_CORNER_XY: 389319.85700 5129773.44200
SE_QUAD_CORNERY_XY: 389193.90800 5122829.01500
SW_QUAD_CORNER_XY: 384376.29700 5122918.24500
SECONDARY_NW_QUAD_XY: 384504.21700 5129644.52600
SECONDARY_NE_QUAD_XY: 389316.49500 5129555.30200
SECONDARY_SE_QUAD_XY: 389190.54700 5122610.91300
SECONDARY_SW_QUAD_XY: 384372.79000 5122700.14600
RMSE_XY: 1.30000
IMAGE_SOURCE: BLACK AND WHITE FILM
SOURCE_IMAGE_ID: NAPP 9486 196
SOURCE_IMAGE_DATE: 1995 08 20
SOURCE_IMAGE_ID: NAPP 9486 197
SOURCE_IMAGE_DATE: 1995 08 20
SOURCE_DEM_DATE: 1980 00 00
AGENCY: WESTERN MAPPING CENTER (WMC)
PRODUCER: UNDEFINED
PRODUCTION_SYSTEM: GIS/MAGIC
COMPRESSION: UNDEFINED
STANDARD_VERSION: 1996 12
METADATA_DATE: 2000 05 31
DATA_FILE_SIZE: 42898128
BYTE_COUNT: 5612
