FILENAME: O4611243.NWS.1077202.tif
QUADRANGLE_NAME: OROFINO CREEK
QUADRANT: NW
WEST_LONGITUDE: -112 45 0.00000
EAST_LONGITUDE: -112 41 15.00000
NORTH_LATITUDE: 46 22 30.00000
SOUTH_LATITUDE: 46 18 45.00000
PRODUCTION_DATE: 2000 5 11
RASTER_ORDER: LEFT_RIGHT/TOP_BOTTOM
BAND_ORGANIZATION: SINGLE FILE
BAND_CONTENT: BLACK&WHITE
BAND_CONTENT: UNDEFINED
BAND_CONTENT: UNDEFINED
BITS_PER_PIXEL: 8
SAMPLES_AND_LINES: 5631 7658
HORIZONTAL_DATUM: NAD83
HORIZONTAL_COORDINATE_SYSTEM: UTM
COORDINATE_ZONE: 12
HORIZONTAL_UNITS: METERS
HORIZONTAL_RESOLUTION: 1.00000
SECONDARY_HORIZONTAL_DATUM: NAD27
XY_ORIGIN: 364890.00000 5137502.00000
SECONDARY_XY_ORIGIN: 364953.20300 5137290.46300
NATION: US
NATION: "SCIENCE
STATE: MT
NW_QUAD_CORNER_XY: 365412.76500 5137201.98300
NE_QUAD_CORNER_XY: 370219.38600 5137097.57800
SE_QUAD_CORNERY_XY: 370071.36600 5130153.11700
SW_QUAD_CORNER_XY: 365259.26000 5130257.53300
SECONDARY_NW_QUAD_XY: 365408.67200 5136983.82100
SECONDARY_NE_QUAD_XY: 370215.43900 5136879.41200
SECONDARY_SE_QUAD_XY: 370067.42000 5129934.98900
SECONDARY_SW_QUAD_XY: 365255.16700 5130039.40800
RMSE_XY: 2.40000
IMAGE_SOURCE: BLACK AND WHITE FILM
SOURCE_IMAGE_ID: NAPP 9485 038
SOURCE_IMAGE_DATE: 1995 08 20
SOURCE_IMAGE_ID: NAPP 9485 037
SOURCE_IMAGE_DATE: 1995 08 20
SOURCE_IMAGE_ID: NAPP 8382 057
SOURCE_IMAGE_DATE: 1995 08 01
SOURCE_DEM_DATE: 1997 00 00
AGENCY: WESTERN MAPPING CENTER (WMC)
PRODUCER: UNDEFINED
PRODUCTION_SYSTEM: GIS/MAGIC
COMPRESSION: UNDEFINED
STANDARD_VERSION: 1996 12
METADATA_DATE: 2000 05 30
DATA_FILE_SIZE: 43127829
BYTE_COUNT: 5631
