FILENAME: O4611243.SWS.1077204.tif
QUADRANGLE_NAME: OROFINO CREEK
QUADRANT: SW
WEST_LONGITUDE: -112 45 0.00000
EAST_LONGITUDE: -112 41 15.00000
NORTH_LATITUDE: 46 18 45.00000
SOUTH_LATITUDE: 46 15 0.00000
PRODUCTION_DATE: 2000 5 11
RASTER_ORDER: LEFT_RIGHT/TOP_BOTTOM
BAND_ORGANIZATION: SINGLE FILE
BAND_CONTENT: BLACK&WHITE
BAND_CONTENT: UNDEFINED
BAND_CONTENT: UNDEFINED
BITS_PER_PIXEL: 8
SAMPLES_AND_LINES: 5636 7659
HORIZONTAL_DATUM: NAD83
HORIZONTAL_COORDINATE_SYSTEM: UTM
COORDINATE_ZONE: 12
HORIZONTAL_UNITS: METERS
HORIZONTAL_RESOLUTION: 1.00000
SECONDARY_HORIZONTAL_DATUM: NAD27
XY_ORIGIN: 364737.00000 5130558.00000
SECONDARY_XY_ORIGIN: 364800.24200 5130346.57900
NATION: US
NATION: "SCIENCE
STATE: MT
NW_QUAD_CORNER_XY: 365259.26000 5130257.53300
NE_QUAD_CORNER_XY: 370071.36600 5130153.11700
SE_QUAD_CORNERY_XY: 369923.50100 5123208.72600
SW_QUAD_CORNER_XY: 365105.91500 5123313.15200
SECONDARY_NW_QUAD_XY: 365255.16700 5130039.40800
SECONDARY_NE_QUAD_XY: 370067.42000 5129934.98900
SECONDARY_SE_QUAD_XY: 369919.55600 5122990.63600
SECONDARY_SW_QUAD_XY: 365101.82400 5123095.06400
RMSE_XY: 1.90000
IMAGE_SOURCE: BLACK AND WHITE FILM
SOURCE_IMAGE_ID: NAPP 9485 040
SOURCE_IMAGE_DATE: 1995 08 20
SOURCE_IMAGE_ID: NAPP 9485 039
SOURCE_IMAGE_DATE: 1995 08 20
SOURCE_IMAGE_ID: NAPP 8382 053
SOURCE_IMAGE_DATE: 1995 08 01
SOURCE_IMAGE_ID: NAPP 8382 055
SOURCE_IMAGE_DATE: 1995 08 01
SOURCE_DEM_DATE: 1997 00 00
AGENCY: WESTERN MAPPING CENTER (WMC)
PRODUCER: UNDEFINED
PRODUCTION_SYSTEM: GIS/MAGIC
COMPRESSION: UNDEFINED
STANDARD_VERSION: 1996 12
METADATA_DATE: 2000 05 30
DATA_FILE_SIZE: 43171760
BYTE_COUNT: 5636
