FILENAME: O4611242.SWS.1077166.tif
QUADRANGLE_NAME: RACETRACK
QUADRANT: SW
WEST_LONGITUDE: -112 52 30.00000
EAST_LONGITUDE: -112 48 45.00000
NORTH_LATITUDE: 46 18 45.00000
SOUTH_LATITUDE: 46 15 0.00000
PRODUCTION_DATE: 2000 5 9
RASTER_ORDER: LEFT_RIGHT/TOP_BOTTOM
BAND_ORGANIZATION: SINGLE FILE
BAND_CONTENT: BLACK&WHITE
BAND_CONTENT: UNDEFINED
BAND_CONTENT: UNDEFINED
BITS_PER_PIXEL: 8
SAMPLES_AND_LINES: 5647 7666
HORIZONTAL_DATUM: NAD83
HORIZONTAL_COORDINATE_SYSTEM: UTM
COORDINATE_ZONE: 12
HORIZONTAL_UNITS: METERS
HORIZONTAL_RESOLUTION: 1.00000
SECONDARY_HORIZONTAL_DATUM: NAD27
XY_ORIGIN: 355102.00000 5130778.00000
SECONDARY_XY_ORIGIN: 355165.23400 5130566.40800
NATION: US
NATION: "SCIENCE
STATE: MT
NW_QUAD_CORNER_XY: 355635.06900 5130477.76200
NE_QUAD_CORNER_XY: 360447.16100 5130365.74800
SE_QUAD_CORNERY_XY: 360288.33700 5123421.37700
SW_QUAD_CORNER_XY: 355470.76500 5123533.40200
SECONDARY_NW_QUAD_XY: 355630.68400 5130259.64300
SECONDARY_NE_QUAD_XY: 360442.92200 5130147.62600
SECONDARY_SE_QUAD_XY: 360284.09900 5123203.29300
SECONDARY_SW_QUAD_XY: 355466.38100 5123315.32100
RMSE_XY: 1.10000
IMAGE_SOURCE: BLACK AND WHITE FILM
SOURCE_IMAGE_ID: NAPP 8380 015
SOURCE_IMAGE_DATE: 1995 06 30
SOURCE_IMAGE_ID: NAPP 9491 091
SOURCE_IMAGE_DATE: 1995 09 01
SOURCE_DEM_DATE: 1966 00 00
AGENCY: WESTERN MAPPING CENTER (WMC)
PRODUCER: UNDEFINED
PRODUCTION_SYSTEM: GIS/MAGIC
COMPRESSION: UNDEFINED
STANDARD_VERSION: 1996 12
METADATA_DATE: 2000 05 30
DATA_FILE_SIZE: 43295549
BYTE_COUNT: 5647
