FILENAME: O4611241.SES.1077139.tif
QUADRANGLE_NAME: MOUNT POWELL
QUADRANT: SE
WEST_LONGITUDE: -112 56 15.00000
EAST_LONGITUDE: -112 52 30.00000
NORTH_LATITUDE: 46 18 45.00000
SOUTH_LATITUDE: 46 15 0.00000
PRODUCTION_DATE: 2000 5 26
RASTER_ORDER: LEFT_RIGHT/TOP_BOTTOM
BAND_ORGANIZATION: SINGLE FILE
BAND_CONTENT: BLACK&WHITE
BAND_CONTENT: UNDEFINED
BAND_CONTENT: UNDEFINED
BITS_PER_PIXEL: 8
SAMPLES_AND_LINES: 5653 7670
HORIZONTAL_DATUM: NAD83
HORIZONTAL_COORDINATE_SYSTEM: UTM
COORDINATE_ZONE: 12
HORIZONTAL_UNITS: METERS
HORIZONTAL_RESOLUTION: 1.00000
SECONDARY_HORIZONTAL_DATUM: NAD27
XY_ORIGIN: 350284.00000 5130894.00000
SECONDARY_XY_ORIGIN: 350347.24000 5130682.32900
NATION: US
NATION: "SCIENCE
STATE: MT
NW_QUAD_CORNER_XY: 350822.98500 5130593.57600
NE_QUAD_CORNER_XY: 355635.06900 5130477.76200
SE_QUAD_CORNERY_XY: 355470.76500 5123533.40200
SW_QUAD_CORNER_XY: 350653.20000 5123649.22700
SECONDARY_NW_QUAD_XY: 350818.45400 5130375.46100
SECONDARY_NE_QUAD_XY: 355630.68400 5130259.64300
SECONDARY_SE_QUAD_XY: 355466.38100 5123315.32100
SECONDARY_SW_QUAD_XY: 350648.67000 5123431.14900
RMSE_XY: 2.10000
IMAGE_SOURCE: BLACK AND WHITE FILM
SOURCE_IMAGE_ID: NAPP 9492 016
SOURCE_IMAGE_DATE: 1995 09 12
SOURCE_IMAGE_ID: NAPP 9491 091
SOURCE_IMAGE_DATE: 1995 09 01
SOURCE_IMAGE_ID: NAPP 9492 017
SOURCE_IMAGE_DATE: 1995 09 12
SOURCE_IMAGE_ID: NAPP 8380 014
SOURCE_IMAGE_DATE: 1995 06 30
SOURCE_IMAGE_ID: NAPP 8380 016
SOURCE_IMAGE_DATE: 1995 06 30
SOURCE_DEM_DATE: 1997 00 00
AGENCY: WESTERN MAPPING CENTER (WMC)
PRODUCER: UNDEFINED
PRODUCTION_SYSTEM: GIS/MAGIC
COMPRESSION: UNDEFINED
STANDARD_VERSION: 1996 12
METADATA_DATE: 2000 05 30
DATA_FILE_SIZE: 43364163
BYTE_COUNT: 5653
