FILENAME: O4611241.SWS.1077141.tif
QUADRANGLE_NAME: MOUNT POWELL
QUADRANT: SW
WEST_LONGITUDE: -113 0 0.00000
EAST_LONGITUDE: -112 56 15.00000
NORTH_LATITUDE: 46 18 45.00000
SOUTH_LATITUDE: 46 15 0.00000
PRODUCTION_DATE: 2000 5 26
RASTER_ORDER: LEFT_RIGHT/TOP_BOTTOM
BAND_ORGANIZATION: SINGLE FILE
BAND_CONTENT: BLACK&WHITE
BAND_CONTENT: UNDEFINED
BAND_CONTENT: UNDEFINED
BITS_PER_PIXEL: 8
SAMPLES_AND_LINES: 5658 7674
HORIZONTAL_DATUM: NAD83
HORIZONTAL_COORDINATE_SYSTEM: UTM
COORDINATE_ZONE: 12
HORIZONTAL_UNITS: METERS
HORIZONTAL_RESOLUTION: 1.00000
SECONDARY_HORIZONTAL_DATUM: NAD27
XY_ORIGIN: 345466.00000 5131014.00000
SECONDARY_XY_ORIGIN: 345529.24600 5130802.25100
NATION: US
NATION: "SCIENCE
STATE: MT
NW_QUAD_CORNER_XY: 346010.90900 5130713.19000
NE_QUAD_CORNER_XY: 350822.98500 5130593.57600
SE_QUAD_CORNERY_XY: 350653.20000 5123649.22700
SW_QUAD_CORNER_XY: 345835.64300 5123768.85200
SECONDARY_NW_QUAD_XY: 346006.23200 5130495.07800
SECONDARY_NE_QUAD_XY: 350818.45400 5130375.46100
SECONDARY_SE_QUAD_XY: 350648.67000 5123431.14900
SECONDARY_SW_QUAD_XY: 345830.96700 5123550.77800
RMSE_XY: 2.20000
IMAGE_SOURCE: BLACK AND WHITE FILM
SOURCE_IMAGE_ID: NAPP 9485 103
SOURCE_IMAGE_DATE: 1995 08 20
SOURCE_IMAGE_ID: NAPP 8402 036
SOURCE_IMAGE_DATE: 1995 09 02
SOURCE_IMAGE_ID: NAPP 9485 102
SOURCE_IMAGE_DATE: 1995 08 20
SOURCE_DEM_DATE: 1997 00 00
AGENCY: WESTERN MAPPING CENTER (WMC)
PRODUCER: UNDEFINED
PRODUCTION_SYSTEM: GIS/MAGIC
COMPRESSION: UNDEFINED
STANDARD_VERSION: 1996 12
METADATA_DATE: 2000 05 30
DATA_FILE_SIZE: 43425150
BYTE_COUNT: 5658
