FILENAME: O4611240.NES.956564.tif
QUADRANGLE_NAME: JEFFERSON CITY
QUADRANT: NE
WEST_LONGITUDE: -112 3 45.00000
EAST_LONGITUDE: -112 0 0.00000
NORTH_LATITUDE: 46 30 0.00000
SOUTH_LATITUDE: 46 26 15.00000
PRODUCTION_DATE: 1998 12 30
RASTER_ORDER: LEFT_RIGHT/TOP_BOTTOM
BAND_ORGANIZATION: SINGLE FILE
BAND_CONTENT: BLACK&WHITE
BAND_CONTENT: UNDEFINED
BAND_CONTENT: UNDEFINED
BITS_PER_PIXEL: 8
SAMPLES_AND_LINES: 5580 7650
HORIZONTAL_DATUM: NAD83
HORIZONTAL_COORDINATE_SYSTEM: UTM
COORDINATE_ZONE: 12
HORIZONTAL_UNITS: METERS
HORIZONTAL_RESOLUTION: 1.00000
SECONDARY_HORIZONTAL_DATUM: NAD27
XY_ORIGIN: 417990.00000 5150460.00000
SECONDARY_XY_ORIGIN: 418051.47100 5150248.38400
NATION: US
STATE: MT
NW_QUAD_CORNER_XY: 418472.60700 5150151.72200
NE_QUAD_CORNER_XY: 423268.31000 5150089.10400
SE_QUAD_CORNERY_XY: 423180.42600 5143144.40600
SW_QUAD_CORNER_XY: 418379.22800 5143207.03100
SECONDARY_NW_QUAD_XY: 418470.12100 5149933.45900
SECONDARY_NE_QUAD_XY: 423265.97000 5149870.83900
SECONDARY_SE_QUAD_XY: 423178.08600 5142926.17600
SECONDARY_SW_QUAD_XY: 418376.74300 5142988.80400
RMSE_XY: 2.86000
IMAGE_SOURCE: BLACK AND WHITE FILM
SOURCE_IMAGE_ID: NAPP 9483 14
SOURCE_IMAGE_DATE: 1995 08 14
SOURCE_IMAGE_ID: NAPP 9483 12
SOURCE_IMAGE_DATE: 1995 08 14
SOURCE_IMAGE_ID: NAPP 9483 17
SOURCE_IMAGE_DATE: 1995 08 14
SOURCE_DEM_DATE: 1998 01 01
AGENCY: WESTERN MAPPING CENTER (WMC)
PRODUCER: ANALYTICAL SURVEYS INC.
PRODUCTION_SYSTEM: ORBIT OR_RECTIFY V.5.2
COMPRESSION: UNDEFINED
STANDARD_VERSION: 1996 12
METADATA_DATE: 1999 01 05
DATA_FILE_SIZE: 42692580
BYTE_COUNT: 5580
