FILENAME: O4611240.SES.956568.tif
QUADRANGLE_NAME: JEFFERSON CITY
QUADRANT: SE
WEST_LONGITUDE: -112 3 45.00000
EAST_LONGITUDE: -112 0 0.00000
NORTH_LATITUDE: 46 26 15.00000
SOUTH_LATITUDE: 46 22 30.00000
PRODUCTION_DATE: 1998 12 30
RASTER_ORDER: LEFT_RIGHT/TOP_BOTTOM
BAND_ORGANIZATION: SINGLE FILE
BAND_CONTENT: BLACK&WHITE
BAND_CONTENT: UNDEFINED
BAND_CONTENT: UNDEFINED
BITS_PER_PIXEL: 8
SAMPLES_AND_LINES: 5610 7650
HORIZONTAL_DATUM: NAD83
HORIZONTAL_COORDINATE_SYSTEM: UTM
COORDINATE_ZONE: 12
HORIZONTAL_UNITS: METERS
HORIZONTAL_RESOLUTION: 1.00000
SECONDARY_HORIZONTAL_DATUM: NAD27
XY_ORIGIN: 417900.00000 5143530.00000
SECONDARY_XY_ORIGIN: 417961.51200 5143318.54100
NATION: US
STATE: MT
NW_QUAD_CORNER_XY: 418379.22800 5143207.03100
NE_QUAD_CORNER_XY: 423180.42600 5143144.40600
SE_QUAD_CORNERY_XY: 423092.63300 5136199.78200
SW_QUAD_CORNER_XY: 418285.94800 5136262.41400
SECONDARY_NW_QUAD_XY: 418376.74300 5142988.80400
SECONDARY_NE_QUAD_XY: 423178.08600 5142926.17600
SECONDARY_SE_QUAD_XY: 423090.29400 5135981.58900
SECONDARY_SW_QUAD_XY: 418283.46200 5136044.22300
RMSE_XY: 2.42000
IMAGE_SOURCE: BLACK AND WHITE FILM
SOURCE_IMAGE_ID: NAPP 9483 12
SOURCE_IMAGE_DATE: 1995 08 14
SOURCE_DEM_DATE: 1998 01 01
AGENCY: WESTERN MAPPING CENTER (WMC)
PRODUCER: ANALYTICAL SURVEYS INC.
PRODUCTION_SYSTEM: ORBIT OR_RECTIFY V.5.2
COMPRESSION: UNDEFINED
STANDARD_VERSION: 1996 12
METADATA_DATE: 1999 01 05
DATA_FILE_SIZE: 42922110
BYTE_COUNT: 5610
