FILENAME: O4611239.NES.956560.tif
QUADRANGLE_NAME: CHESSMAN RESERVOIR
QUADRANT: NE
WEST_LONGITUDE: -112 11 15.00000
EAST_LONGITUDE: -112 7 30.00000
NORTH_LATITUDE: 46 30 0.00000
SOUTH_LATITUDE: 46 26 15.00000
PRODUCTION_DATE: 1998 12 30
RASTER_ORDER: LEFT_RIGHT/TOP_BOTTOM
BAND_ORGANIZATION: SINGLE FILE
BAND_CONTENT: BLACK&WHITE
BAND_CONTENT: UNDEFINED
BAND_CONTENT: UNDEFINED
BITS_PER_PIXEL: 8
SAMPLES_AND_LINES: 5610 7650
HORIZONTAL_DATUM: NAD83
HORIZONTAL_COORDINATE_SYSTEM: UTM
COORDINATE_ZONE: 12
HORIZONTAL_UNITS: METERS
HORIZONTAL_RESOLUTION: 1.00000
SECONDARY_HORIZONTAL_DATUM: NAD27
XY_ORIGIN: 408390.00000 5150610.00000
SECONDARY_XY_ORIGIN: 408451.80300 5150398.30300
NATION: US
STATE: MT
NW_QUAD_CORNER_XY: 408881.21500 5150288.34700
NE_QUAD_CORNER_XY: 413676.90800 5150218.13700
SE_QUAD_CORNERY_XY: 413578.03600 5143273.45300
SW_QUAD_CORNER_XY: 408776.84800 5143343.67100
SECONDARY_NW_QUAD_XY: 408878.43600 5150070.08800
SECONDARY_NE_QUAD_XY: 413674.27600 5149999.87600
SECONDARY_SE_QUAD_XY: 413575.40400 5143055.22700
SECONDARY_SW_QUAD_XY: 408774.07000 5143125.44800
RMSE_XY: 2.68000
IMAGE_SOURCE: BLACK AND WHITE FILM
SOURCE_IMAGE_ID: NAPP 8388 84
SOURCE_IMAGE_DATE: 1995 08 09
SOURCE_DEM_DATE: 1998 01 01
AGENCY: WESTERN MAPPING CENTER (WMC)
PRODUCER: ANALYTICAL SURVEYS INC.
PRODUCTION_SYSTEM: ORBIT OR_RECTIFY V.5.2
COMPRESSION: UNDEFINED
STANDARD_VERSION: 1996 12
METADATA_DATE: 1999 01 05
DATA_FILE_SIZE: 42922110
BYTE_COUNT: 5610
