FILENAME: O4611238.NWS.956557.tif
QUADRANGLE_NAME: THREE BROTHERS
QUADRANT: NW
WEST_LONGITUDE: -112 22 30.00000
EAST_LONGITUDE: -112 18 45.00000
NORTH_LATITUDE: 46 30 0.00000
SOUTH_LATITUDE: 46 26 15.00000
PRODUCTION_DATE: 1998 12 30
RASTER_ORDER: LEFT_RIGHT/TOP_BOTTOM
BAND_ORGANIZATION: SINGLE FILE
BAND_CONTENT: BLACK&WHITE
BAND_CONTENT: UNDEFINED
BAND_CONTENT: UNDEFINED
BITS_PER_PIXEL: 8
SAMPLES_AND_LINES: 5610 7680
HORIZONTAL_DATUM: NAD83
HORIZONTAL_COORDINATE_SYSTEM: UTM
COORDINATE_ZONE: 12
HORIZONTAL_UNITS: METERS
HORIZONTAL_RESOLUTION: 1.00000
SECONDARY_HORIZONTAL_DATUM: NAD27
XY_ORIGIN: 393990.00000 5150850.00000
SECONDARY_XY_ORIGIN: 394052.28300 5150638.22300
NATION: US
STATE: MT
NW_QUAD_CORNER_XY: 394494.16900 5150521.75700
NE_QUAD_CORNER_XY: 399289.84500 5150440.15700
SE_QUAD_CORNERY_XY: 399174.48900 5143495.49700
SW_QUAD_CORNER_XY: 394373.31800 5143577.10600
SECONDARY_NW_QUAD_XY: 394490.95200 5150303.50500
SECONDARY_NE_QUAD_XY: 399286.77400 5150221.90300
SECONDARY_SE_QUAD_XY: 399171.41800 5143277.27800
SECONDARY_SW_QUAD_XY: 394370.10100 5143358.88900
RMSE_XY: 3.04000
IMAGE_SOURCE: BLACK AND WHITE FILM
SOURCE_IMAGE_ID: NAPP 9486 99
SOURCE_IMAGE_DATE: 1995 08 20
SOURCE_IMAGE_ID: NAPP 9486 101
SOURCE_IMAGE_DATE: 1995 08 20
SOURCE_DEM_DATE: 1980 00 00
AGENCY: WESTERN MAPPING CENTER (WMC)
PRODUCER: ANALYTICAL SURVEYS INC.
PRODUCTION_SYSTEM: ORBIT OR_RECTIFY V.5.2
COMPRESSION: UNDEFINED
STANDARD_VERSION: 1996 12
METADATA_DATE: 1999 01 05
DATA_FILE_SIZE: 43090410
BYTE_COUNT: 5610
