FILENAME: O4611236.SES.1076862.tif
QUADRANGLE_NAME: BAGGS CREEK
QUADRANT: SE
WEST_LONGITUDE: -112 33 45.00000
EAST_LONGITUDE: -112 30 0.00000
NORTH_LATITUDE: 46 26 15.00000
SOUTH_LATITUDE: 46 22 30.00000
PRODUCTION_DATE: 2000 5 4
RASTER_ORDER: LEFT_RIGHT/TOP_BOTTOM
BAND_ORGANIZATION: SINGLE FILE
BAND_CONTENT: BLACK&WHITE
BAND_CONTENT: UNDEFINED
BAND_CONTENT: UNDEFINED
BITS_PER_PIXEL: 8
SAMPLES_AND_LINES: 5607 7647
HORIZONTAL_DATUM: NAD83
HORIZONTAL_COORDINATE_SYSTEM: UTM
COORDINATE_ZONE: 12
HORIZONTAL_UNITS: METERS
HORIZONTAL_RESOLUTION: 1.00000
SECONDARY_HORIZONTAL_DATUM: NAD27
XY_ORIGIN: 379465.00000 5144145.00000
SECONDARY_XY_ORIGIN: 379527.76700 5143933.29900
NATION: US
NATION: "SCIENCE
STATE: MT
NW_QUAD_CORNER_XY: 379969.84400 5143844.71400
NE_QUAD_CORNER_XY: 384770.99500 5143751.71400
SE_QUAD_CORNERY_XY: 384639.29100 5136807.15300
SW_QUAD_CORNER_XY: 379832.64900 5136900.16300
SECONDARY_NW_QUAD_XY: 379966.18800 5143626.50600
SECONDARY_NE_QUAD_XY: 384767.48600 5143533.50300
SECONDARY_SE_QUAD_XY: 384635.78200 5136588.97900
SECONDARY_SW_QUAD_XY: 379828.99400 5136681.99100
RMSE_XY: 2.40000
IMAGE_SOURCE: BLACK AND WHITE FILM
SOURCE_IMAGE_ID: NAPP 9486 125
SOURCE_IMAGE_DATE: 1995 08 20
SOURCE_IMAGE_ID: NAPP 9486 124
SOURCE_IMAGE_DATE: 1995 08 20
SOURCE_IMAGE_ID: NAPP 9486 126
SOURCE_IMAGE_DATE: 1995 08 20
SOURCE_IMAGE_ID: NAPP 9486 127
SOURCE_IMAGE_DATE: 1995 08 20
SOURCE_IMAGE_ID: NAPP 9486 191
SOURCE_IMAGE_DATE: 1995 08 20
SOURCE_DEM_DATE: 1997 00 00
AGENCY: WESTERN MAPPING CENTER (WMC)
PRODUCER: UNDEFINED
PRODUCTION_SYSTEM: GIS/MAGIC
COMPRESSION: UNDEFINED
STANDARD_VERSION: 1996 12
METADATA_DATE: 2000 05 31
DATA_FILE_SIZE: 42882336
BYTE_COUNT: 5607
