FILENAME: O4611236.SWS.1076863.tif
QUADRANGLE_NAME: BAGGS CREEK
QUADRANT: SW
WEST_LONGITUDE: -112 37 30.00000
EAST_LONGITUDE: -112 33 45.00000
NORTH_LATITUDE: 46 26 15.00000
SOUTH_LATITUDE: 46 22 30.00000
PRODUCTION_DATE: 2000 5 31
RASTER_ORDER: LEFT_RIGHT/TOP_BOTTOM
BAND_ORGANIZATION: SINGLE FILE
BAND_CONTENT: BLACK&WHITE
BAND_CONTENT: UNDEFINED
BAND_CONTENT: UNDEFINED
BITS_PER_PIXEL: 8
SAMPLES_AND_LINES: 5613 7651
HORIZONTAL_DATUM: NAD83
HORIZONTAL_COORDINATE_SYSTEM: UTM
COORDINATE_ZONE: 12
HORIZONTAL_UNITS: METERS
HORIZONTAL_RESOLUTION: 1.00000
SECONDARY_HORIZONTAL_DATUM: NAD27
XY_ORIGIN: 374658.00000 5144242.00000
SECONDARY_XY_ORIGIN: 374720.89900 5144030.31500
NATION: US
NATION: "SCIENCE
STATE: MT
NW_QUAD_CORNER_XY: 375168.69900 5143941.51300
NE_QUAD_CORNER_XY: 379969.84400 5143844.71400
SE_QUAD_CORNERY_XY: 379832.64900 5136900.16300
SW_QUAD_CORNER_XY: 375026.01400 5136996.97200
SECONDARY_NW_QUAD_XY: 375164.89700 5143723.30700
SECONDARY_NE_QUAD_XY: 379966.18800 5143626.50600
SECONDARY_SE_QUAD_XY: 379828.99400 5136681.99100
SECONDARY_SW_QUAD_XY: 375022.21300 5136778.80300
RMSE_XY: 2.60000
IMAGE_SOURCE: BLACK AND WHITE FILM
SOURCE_IMAGE_ID: NAPP 9491 105
SOURCE_IMAGE_DATE: 1995 09 01
SOURCE_IMAGE_ID: NAPP 8382 057
SOURCE_IMAGE_DATE: 1995 08 01
SOURCE_IMAGE_ID: NAPP 8382 059
SOURCE_IMAGE_DATE: 1995 08 01
SOURCE_IMAGE_ID: NAPP 9491 104
SOURCE_IMAGE_DATE: 1995 09 01
SOURCE_DEM_DATE: 1997 00 00
AGENCY: WESTERN MAPPING CENTER (WMC)
PRODUCER: UNDEFINED
PRODUCTION_SYSTEM: GIS/MAGIC
COMPRESSION: UNDEFINED
STANDARD_VERSION: 1996 12
METADATA_DATE: 2000 05 31
DATA_FILE_SIZE: 42950676
BYTE_COUNT: 5613
