FILENAME: O4611235.NWS.1077198.tif
QUADRANGLE_NAME: DEER LODGE
QUADRANT: NW
WEST_LONGITUDE: -112 45 0.00000
EAST_LONGITUDE: -112 41 15.00000
NORTH_LATITUDE: 46 30 0.00000
SOUTH_LATITUDE: 46 26 15.00000
PRODUCTION_DATE: 2000 5 11
RASTER_ORDER: LEFT_RIGHT/TOP_BOTTOM
BAND_ORGANIZATION: SINGLE FILE
BAND_CONTENT: BLACK&WHITE
BAND_CONTENT: UNDEFINED
BAND_CONTENT: UNDEFINED
BITS_PER_PIXEL: 8
SAMPLES_AND_LINES: 5619 7659
HORIZONTAL_DATUM: NAD83
HORIZONTAL_COORDINATE_SYSTEM: UTM
COORDINATE_ZONE: 12
HORIZONTAL_UNITS: METERS
HORIZONTAL_RESOLUTION: 1.00000
SECONDARY_HORIZONTAL_DATUM: NAD27
XY_ORIGIN: 365198.00000 5151392.00000
SECONDARY_XY_ORIGIN: 365261.12400 5151180.23200
NATION: US
NATION: "SCIENCE
STATE: MT
NW_QUAD_CORNER_XY: 365720.26000 5151091.09200
NE_QUAD_CORNER_XY: 370515.89300 5150986.70900
SE_QUAD_CORNERY_XY: 370367.56200 5144042.10900
SW_QUAD_CORNER_XY: 365566.43200 5144146.50300
SECONDARY_NW_QUAD_XY: 365716.16500 5150872.85700
SECONDARY_NE_QUAD_XY: 370511.94400 5150768.47100
SECONDARY_SE_QUAD_XY: 370363.61400 5143823.90600
SECONDARY_SW_QUAD_XY: 365562.33800 5143928.30400
RMSE_XY: 2.30000
IMAGE_SOURCE: BLACK AND WHITE FILM
SOURCE_IMAGE_ID: NAPP 9485 034
SOURCE_IMAGE_DATE: 1995 08 20
SOURCE_IMAGE_ID: NAPP 9485 064
SOURCE_IMAGE_DATE: 1995 08 20
SOURCE_IMAGE_ID: NAPP 9485 035
SOURCE_IMAGE_DATE: 1995 08 20
SOURCE_IMAGE_ID: NAPP 9485 033
SOURCE_IMAGE_DATE: 1995 08 20
SOURCE_DEM_DATE: 1988 00 00
AGENCY: WESTERN MAPPING CENTER (WMC)
PRODUCER: UNDEFINED
PRODUCTION_SYSTEM: GIS/MAGIC
COMPRESSION: UNDEFINED
STANDARD_VERSION: 1996 12
METADATA_DATE: 2000 05 30
DATA_FILE_SIZE: 43041540
BYTE_COUNT: 5619
