FILENAME: O4611233.NWS.1077128.tif
QUADRANGLE_NAME: ROCK CREEK LAKE
QUADRANT: NW
WEST_LONGITUDE: -113 0 0.00000
EAST_LONGITUDE: -112 56 15.00000
NORTH_LATITUDE: 46 30 0.00000
SOUTH_LATITUDE: 46 26 15.00000
PRODUCTION_DATE: 2000 5 26
RASTER_ORDER: LEFT_RIGHT/TOP_BOTTOM
BAND_ORGANIZATION: SINGLE FILE
BAND_CONTENT: BLACK&WHITE
BAND_CONTENT: UNDEFINED
BAND_CONTENT: UNDEFINED
BITS_PER_PIXEL: 8
SAMPLES_AND_LINES: 5643 7673
HORIZONTAL_DATUM: NAD83
HORIZONTAL_COORDINATE_SYSTEM: UTM
COORDINATE_ZONE: 12
HORIZONTAL_UNITS: METERS
HORIZONTAL_RESOLUTION: 1.00000
SECONDARY_HORIZONTAL_DATUM: NAD27
XY_ORIGIN: 345992.00000 5151847.00000
SECONDARY_XY_ORIGIN: 346055.44400 5151635.04700
NATION: US
NATION: "SCIENCE
STATE: MT
NW_QUAD_CORNER_XY: 346537.81400 5151546.60500
NE_QUAD_CORNER_XY: 351333.41200 5151427.02900
SE_QUAD_CORNERY_XY: 351163.09100 5144482.47700
SW_QUAD_CORNER_XY: 346361.99500 5144602.06600
SECONDARY_NW_QUAD_XY: 346533.13400 5151328.38400
SECONDARY_NE_QUAD_XY: 351328.87800 5151208.80500
SECONDARY_SE_QUAD_XY: 351158.55900 5144264.28800
SECONDARY_SW_QUAD_XY: 346357.31600 5144383.88100
RMSE_XY: 2.20000
IMAGE_SOURCE: BLACK AND WHITE FILM
SOURCE_IMAGE_ID: NAPP 9485 097
SOURCE_IMAGE_DATE: 1995 08 20
SOURCE_IMAGE_ID: NAPP 9485 098
SOURCE_IMAGE_DATE: 1995 08 20
SOURCE_IMAGE_ID: NAPP 9485 096
SOURCE_IMAGE_DATE: 1995 08 20
SOURCE_IMAGE_ID: NAPP 9491 085
SOURCE_IMAGE_DATE: 1995 09 01
SOURCE_DEM_DATE: 1966 00 00
AGENCY: WESTERN MAPPING CENTER (WMC)
PRODUCER: UNDEFINED
PRODUCTION_SYSTEM: GIS/MAGIC
COMPRESSION: UNDEFINED
STANDARD_VERSION: 1996 12
METADATA_DATE: 2000 05 30
DATA_FILE_SIZE: 43304382
BYTE_COUNT: 5643
