FILENAME: O4611233.SES.1077130.tif
QUADRANGLE_NAME: ROCK CREEK LAKE
QUADRANT: SE
WEST_LONGITUDE: -112 56 15.00000
EAST_LONGITUDE: -112 52 30.00000
NORTH_LATITUDE: 46 26 15.00000
SOUTH_LATITUDE: 46 22 30.00000
PRODUCTION_DATE: 2000 5 26
RASTER_ORDER: LEFT_RIGHT/TOP_BOTTOM
BAND_ORGANIZATION: SINGLE FILE
BAND_CONTENT: BLACK&WHITE
BAND_CONTENT: UNDEFINED
BAND_CONTENT: UNDEFINED
BITS_PER_PIXEL: 8
SAMPLES_AND_LINES: 5642 7670
HORIZONTAL_DATUM: NAD83
HORIZONTAL_COORDINATE_SYSTEM: UTM
COORDINATE_ZONE: 12
HORIZONTAL_UNITS: METERS
HORIZONTAL_RESOLUTION: 1.00000
SECONDARY_HORIZONTAL_DATUM: NAD27
XY_ORIGIN: 350624.00000 5144783.00000
SECONDARY_XY_ORIGIN: 350687.32100 5144571.17000
NATION: US
NATION: "SCIENCE
STATE: MT
NW_QUAD_CORNER_XY: 351163.09100 5144482.47700
NE_QUAD_CORNER_XY: 355964.19700 5144366.68700
SE_QUAD_CORNERY_XY: 355799.54600 5137422.19000
SW_QUAD_CORNER_XY: 350992.94900 5137537.99300
SECONDARY_NW_QUAD_XY: 351158.55900 5144264.28800
SECONDARY_NE_QUAD_XY: 355959.81000 5144148.49400
SECONDARY_SE_QUAD_XY: 355795.16100 5137204.03400
SECONDARY_SW_QUAD_XY: 350988.41700 5137319.84000
RMSE_XY: 2.00000
IMAGE_SOURCE: BLACK AND WHITE FILM
SOURCE_IMAGE_ID: NAPP 9491 086
SOURCE_IMAGE_DATE: 1995 09 01
SOURCE_IMAGE_ID: NAPP 9485 098
SOURCE_IMAGE_DATE: 1995 08 20
SOURCE_IMAGE_ID: NAPP 9492 019
SOURCE_IMAGE_DATE: 1995 09 12
SOURCE_IMAGE_ID: NAPP 9491 085
SOURCE_IMAGE_DATE: 1995 09 01
SOURCE_IMAGE_ID: NAPP 8380 018
SOURCE_IMAGE_DATE: 1995 06 30
SOURCE_DEM_DATE: 1966 00 00
AGENCY: WESTERN MAPPING CENTER (WMC)
PRODUCER: UNDEFINED
PRODUCTION_SYSTEM: GIS/MAGIC
COMPRESSION: UNDEFINED
STANDARD_VERSION: 1996 12
METADATA_DATE: 2000 05 30
DATA_FILE_SIZE: 43279782
BYTE_COUNT: 5642
