FILENAME: O4611231.SWS.956551.tif
QUADRANGLE_NAME: BLACK MOUNTAIN
QUADRANT: SW
WEST_LONGITUDE: -112 15 0.00000
EAST_LONGITUDE: -112 11 15.00000
NORTH_LATITUDE: 46 33 45.00000
SOUTH_LATITUDE: 46 30 0.00000
PRODUCTION_DATE: 1999 01 01
RASTER_ORDER: LEFT_RIGHT/TOP_BOTTOM
BAND_ORGANIZATION: SINGLE FILE
BAND_CONTENT: BLACK&WHITE
BAND_CONTENT: UNDEFINED
BAND_CONTENT: UNDEFINED
BITS_PER_PIXEL: 8
SAMPLES_AND_LINES: 5580 7650
HORIZONTAL_DATUM: NAD83
HORIZONTAL_COORDINATE_SYSTEM: UTM
COORDINATE_ZONE: 12
HORIZONTAL_UNITS: METERS
HORIZONTAL_RESOLUTION: 1.00000
SECONDARY_HORIZONTAL_DATUM: NAD27
XY_ORIGIN: 403710.00000 5157630.00000
SECONDARY_XY_ORIGIN: 403771.93300 5157418.07600
NATION: US
STATE: MT
NW_QUAD_CORNER_XY: 404195.50300 5157307.09500
NE_QUAD_CORNER_XY: 408985.69100 5157233.09700
SE_QUAD_CORNERY_XY: 408881.21500 5150288.34700
SW_QUAD_CORNER_XY: 404085.52700 5150362.35400
SECONDARY_NW_QUAD_XY: 404192.57800 5157088.80300
SECONDARY_NE_QUAD_XY: 408982.91200 5157014.80300
SECONDARY_SE_QUAD_XY: 408878.43600 5150070.08800
SECONDARY_SW_QUAD_XY: 404082.60200 5150144.09700
RMSE_XY: 2.59000
IMAGE_SOURCE: BLACK AND WHITE FILM
SOURCE_IMAGE_ID: NAPP 9486 250
SOURCE_IMAGE_DATE: 1995 08 20
SOURCE_DEM_DATE: 1998 01 01
AGENCY: WESTERN MAPPING CENTER (WMC)
PRODUCER: ANALYTICAL SURVEYS INC.
PRODUCTION_SYSTEM: ORBIT OR_RECTIFY V.5.2
COMPRESSION: UNDEFINED
STANDARD_VERSION: 1996 12
METADATA_DATE: 1999 01 06
DATA_FILE_SIZE: 42692580
BYTE_COUNT: 5580
