FILENAME: O4611230.SES.956546.tif
QUADRANGLE_NAME: MACDONALD PASS
QUADRANT: SE
WEST_LONGITUDE: -112 18 45.00000
EAST_LONGITUDE: -112 15 0.00000
NORTH_LATITUDE: 46 33 45.00000
SOUTH_LATITUDE: 46 30 0.00000
PRODUCTION_DATE: 1999 01 01
RASTER_ORDER: LEFT_RIGHT/TOP_BOTTOM
BAND_ORGANIZATION: SINGLE FILE
BAND_CONTENT: BLACK&WHITE
BAND_CONTENT: UNDEFINED
BAND_CONTENT: UNDEFINED
BITS_PER_PIXEL: 8
SAMPLES_AND_LINES: 5610 7650
HORIZONTAL_DATUM: NAD83
HORIZONTAL_COORDINATE_SYSTEM: UTM
COORDINATE_ZONE: 12
HORIZONTAL_UNITS: METERS
HORIZONTAL_RESOLUTION: 1.00000
SECONDARY_HORIZONTAL_DATUM: NAD27
XY_ORIGIN: 398910.00000 5157690.00000
SECONDARY_XY_ORIGIN: 398972.08500 5157478.05500
NATION: US
STATE: MT
NW_QUAD_CORNER_XY: 399405.32200 5157384.88900
NE_QUAD_CORNER_XY: 404195.50300 5157307.09500
SE_QUAD_CORNERY_XY: 404085.52700 5150362.35400
SW_QUAD_CORNER_XY: 399289.84500 5150440.15700
SECONDARY_NW_QUAD_XY: 399402.25100 5157166.60000
SECONDARY_NE_QUAD_XY: 404192.57800 5157088.80300
SECONDARY_SE_QUAD_XY: 404082.60200 5150144.09700
SECONDARY_SW_QUAD_XY: 399286.77400 5150221.90300
RMSE_XY: 2.20000
IMAGE_SOURCE: BLACK AND WHITE FILM
SOURCE_IMAGE_ID: NAPP 9486 207
SOURCE_IMAGE_DATE: 1995 08 20
SOURCE_DEM_DATE: 1991 00 00
AGENCY: WESTERN MAPPING CENTER (WMC)
PRODUCER: ANALYTICAL SURVEYS INC.
PRODUCTION_SYSTEM: ORBIT OR_RECTIFY V.5.2
COMPRESSION: UNDEFINED
STANDARD_VERSION: 1996 12
METADATA_DATE: 1999 01 06
DATA_FILE_SIZE: 42922110
BYTE_COUNT: 5610
