FILENAME: O4611230.SWS.956547.tif
QUADRANGLE_NAME: MACDONALD PASS
QUADRANT: SW
WEST_LONGITUDE: -112 22 30.00000
EAST_LONGITUDE: -112 18 45.00000
NORTH_LATITUDE: 46 33 45.00000
SOUTH_LATITUDE: 46 30 0.00000
PRODUCTION_DATE: 1999 01 01
RASTER_ORDER: LEFT_RIGHT/TOP_BOTTOM
BAND_ORGANIZATION: SINGLE FILE
BAND_CONTENT: BLACK&WHITE
BAND_CONTENT: UNDEFINED
BAND_CONTENT: UNDEFINED
BITS_PER_PIXEL: 8
SAMPLES_AND_LINES: 5610 7650
HORIZONTAL_DATUM: NAD83
HORIZONTAL_COORDINATE_SYSTEM: UTM
COORDINATE_ZONE: 12
HORIZONTAL_UNITS: METERS
HORIZONTAL_RESOLUTION: 1.00000
SECONDARY_HORIZONTAL_DATUM: NAD27
XY_ORIGIN: 394110.00000 5157780.00000
SECONDARY_XY_ORIGIN: 394172.23600 5157568.03000
NATION: US
STATE: MT
NW_QUAD_CORNER_XY: 394615.14700 5157466.47900
NE_QUAD_CORNER_XY: 399405.32200 5157384.88900
SE_QUAD_CORNERY_XY: 399289.84500 5150440.15700
SW_QUAD_CORNER_XY: 394494.16900 5150521.75700
SECONDARY_NW_QUAD_XY: 394611.92900 5157248.19300
SECONDARY_NE_QUAD_XY: 399402.25100 5157166.60000
SECONDARY_SE_QUAD_XY: 399286.77400 5150221.90300
SECONDARY_SW_QUAD_XY: 394490.95200 5150303.50500
RMSE_XY: 3.06000
IMAGE_SOURCE: BLACK AND WHITE FILM
SOURCE_IMAGE_ID: NAPP 9486 97
SOURCE_IMAGE_DATE: 1995 08 20
SOURCE_DEM_DATE: 1991 00 00
AGENCY: WESTERN MAPPING CENTER (WMC)
PRODUCER: ANALYTICAL SURVEYS INC.
PRODUCTION_SYSTEM: ORBIT OR_RECTIFY V.5.2
COMPRESSION: UNDEFINED
STANDARD_VERSION: 1996 12
METADATA_DATE: 1999 01 06
DATA_FILE_SIZE: 42922110
BYTE_COUNT: 5610
