FILENAME: O4611229.NWS.1076877.tif
QUADRANGLE_NAME: ELLISTON
QUADRANT: NW
WEST_LONGITUDE: -112 30 0.00000
EAST_LONGITUDE: -112 26 15.00000
NORTH_LATITUDE: 46 37 30.00000
SOUTH_LATITUDE: 46 33 45.00000
PRODUCTION_DATE: 2000 5 4
RASTER_ORDER: LEFT_RIGHT/TOP_BOTTOM
BAND_ORGANIZATION: SINGLE FILE
BAND_CONTENT: BLACK&WHITE
BAND_CONTENT: UNDEFINED
BAND_CONTENT: UNDEFINED
BITS_PER_PIXEL: 8
SAMPLES_AND_LINES: 5586 7643
HORIZONTAL_DATUM: NAD83
HORIZONTAL_COORDINATE_SYSTEM: UTM
COORDINATE_ZONE: 12
HORIZONTAL_UNITS: METERS
HORIZONTAL_RESOLUTION: 1.00000
SECONDARY_HORIZONTAL_DATUM: NAD27
XY_ORIGIN: 384667.00000 5164886.00000
SECONDARY_XY_ORIGIN: 384729.48300 5164673.78000
NATION: US
NATION: "SCIENCE
STATE: MT
NW_QUAD_CORNER_XY: 385166.93600 5164585.82300
NE_QUAD_CORNER_XY: 389951.59000 5164496.65000
SE_QUAD_CORNERY_XY: 389824.97900 5157551.86600
SW_QUAD_CORNER_XY: 385034.81800 5157641.04900
SECONDARY_NW_QUAD_XY: 385163.42400 5164367.50700
SECONDARY_NE_QUAD_XY: 389948.22500 5164278.33200
SECONDARY_SE_QUAD_XY: 389821.61500 5157333.58100
SECONDARY_SW_QUAD_XY: 385031.30700 5157422.76700
RMSE_XY: 2.20000
IMAGE_SOURCE: BLACK AND WHITE FILM
SOURCE_IMAGE_ID: NAPP 9486 186
SOURCE_IMAGE_DATE: 1995 08 20
SOURCE_IMAGE_ID: NAPP 9486 187
SOURCE_IMAGE_DATE: 1995 08 20
SOURCE_IMAGE_ID: NAPP 9486 048
SOURCE_IMAGE_DATE: 1995 08 20
SOURCE_DEM_DATE: 1997 00 00
AGENCY: WESTERN MAPPING CENTER (WMC)
PRODUCER: UNDEFINED
PRODUCTION_SYSTEM: GIS/MAGIC
COMPRESSION: UNDEFINED
STANDARD_VERSION: 1996 12
METADATA_DATE: 2000 05 31
DATA_FILE_SIZE: 42699384
BYTE_COUNT: 5586
