FILENAME: O4611228.NES.1076856.tif
QUADRANGLE_NAME: AVON
QUADRANT: NE
WEST_LONGITUDE: -112 33 45.00000
EAST_LONGITUDE: -112 30 0.00000
NORTH_LATITUDE: 46 37 30.00000
SOUTH_LATITUDE: 46 33 45.00000
PRODUCTION_DATE: 2000 5 4
RASTER_ORDER: LEFT_RIGHT/TOP_BOTTOM
BAND_ORGANIZATION: SINGLE FILE
BAND_CONTENT: BLACK&WHITE
BAND_CONTENT: UNDEFINED
BAND_CONTENT: UNDEFINED
BITS_PER_PIXEL: 8
SAMPLES_AND_LINES: 5591 7647
HORIZONTAL_DATUM: NAD83
HORIZONTAL_COORDINATE_SYSTEM: UTM
COORDINATE_ZONE: 12
HORIZONTAL_UNITS: METERS
HORIZONTAL_RESOLUTION: 1.00000
SECONDARY_HORIZONTAL_DATUM: NAD27
XY_ORIGIN: 379877.00000 5164979.00000
SECONDARY_XY_ORIGIN: 379939.62400 5164766.77700
NATION: US
NATION: "SCIENCE
STATE: MT
NW_QUAD_CORNER_XY: 380382.28900 5164678.79100
NE_QUAD_CORNER_XY: 385166.93600 5164585.82300
SE_QUAD_CORNERY_XY: 385034.81800 5157641.04900
SW_QUAD_CORNER_XY: 380244.66400 5157734.02800
SECONDARY_NW_QUAD_XY: 380378.63200 5164460.47900
SECONDARY_NE_QUAD_XY: 385163.42400 5164367.50700
SECONDARY_SE_QUAD_XY: 385031.30700 5157422.76700
SECONDARY_SW_QUAD_XY: 380241.00700 5157515.75000
RMSE_XY: 3.00000
IMAGE_SOURCE: BLACK AND WHITE FILM
SOURCE_IMAGE_ID: NAPP 9486 131
SOURCE_IMAGE_DATE: 1995 08 20
SOURCE_IMAGE_ID: NAPP 9486 130
SOURCE_IMAGE_DATE: 1995 08 20
SOURCE_IMAGE_ID: NAPP 9486 187
SOURCE_IMAGE_DATE: 1995 08 20
SOURCE_DEM_DATE: 2000 01 01
AGENCY: WESTERN MAPPING CENTER (WMC)
PRODUCER: UNDEFINED
PRODUCTION_SYSTEM: GIS/MAGIC
COMPRESSION: UNDEFINED
STANDARD_VERSION: 1996 12
METADATA_DATE: 2000 05 31
DATA_FILE_SIZE: 42759968
BYTE_COUNT: 5591
