FILENAME: O4611228.NWS.1076857.tif
QUADRANGLE_NAME: AVON
QUADRANT: NW
WEST_LONGITUDE: -112 37 30.00000
EAST_LONGITUDE: -112 33 45.00000
NORTH_LATITUDE: 46 37 30.00000
SOUTH_LATITUDE: 46 33 45.00000
PRODUCTION_DATE: 2000 5 31
RASTER_ORDER: LEFT_RIGHT/TOP_BOTTOM
BAND_ORGANIZATION: SINGLE FILE
BAND_CONTENT: BLACK&WHITE
BAND_CONTENT: UNDEFINED
BAND_CONTENT: UNDEFINED
BITS_PER_PIXEL: 8
SAMPLES_AND_LINES: 5598 7651
HORIZONTAL_DATUM: NAD83
HORIZONTAL_COORDINATE_SYSTEM: UTM
COORDINATE_ZONE: 12
HORIZONTAL_UNITS: METERS
HORIZONTAL_RESOLUTION: 1.00000
SECONDARY_HORIZONTAL_DATUM: NAD27
XY_ORIGIN: 375086.00000 5165076.00000
SECONDARY_XY_ORIGIN: 375148.76900 5164863.76800
NATION: US
NATION: "SCIENCE
STATE: MT
NW_QUAD_CORNER_XY: 375597.65000 5164775.55600
NE_QUAD_CORNER_XY: 380382.28900 5164678.79100
SE_QUAD_CORNERY_XY: 380244.66400 5157734.02800
SW_QUAD_CORNER_XY: 375454.51700 5157830.80500
SECONDARY_NW_QUAD_XY: 375593.84700 5164557.24700
SECONDARY_NE_QUAD_XY: 380378.63200 5164460.47900
SECONDARY_SE_QUAD_XY: 380241.00700 5157515.75000
SECONDARY_SW_QUAD_XY: 375450.71400 5157612.52900
RMSE_XY: 3.80000
IMAGE_SOURCE: BLACK AND WHITE FILM
SOURCE_IMAGE_ID: NAPP 8386 044
SOURCE_IMAGE_DATE: 1995 08 05
SOURCE_IMAGE_ID: NAPP 8386 051
SOURCE_IMAGE_DATE: 1995 08 05
SOURCE_IMAGE_ID: NAPP 8386 052
SOURCE_IMAGE_DATE: 1995 08 05
SOURCE_IMAGE_ID: NAPP 8386 053
SOURCE_IMAGE_DATE: 1995 08 05
SOURCE_IMAGE_ID: NAPP 8386 046
SOURCE_IMAGE_DATE: 1995 08 05
SOURCE_DEM_DATE: 2000 01 01
AGENCY: WESTERN MAPPING CENTER (WMC)
PRODUCER: UNDEFINED
PRODUCTION_SYSTEM: GIS/MAGIC
COMPRESSION: UNDEFINED
STANDARD_VERSION: 1996 12
METADATA_DATE: 2000 05 31
DATA_FILE_SIZE: 42835896
BYTE_COUNT: 5598
