FILENAME: O4611228.SWS.1076859.tif
QUADRANGLE_NAME: AVON
QUADRANT: SW
WEST_LONGITUDE: -112 37 30.00000
EAST_LONGITUDE: -112 33 45.00000
NORTH_LATITUDE: 46 33 45.00000
SOUTH_LATITUDE: 46 30 0.00000
PRODUCTION_DATE: 2000 5 4
RASTER_ORDER: LEFT_RIGHT/TOP_BOTTOM
BAND_ORGANIZATION: SINGLE FILE
BAND_CONTENT: BLACK&WHITE
BAND_CONTENT: UNDEFINED
BAND_CONTENT: UNDEFINED
BITS_PER_PIXEL: 8
SAMPLES_AND_LINES: 5603 7651
HORIZONTAL_DATUM: NAD83
HORIZONTAL_COORDINATE_SYSTEM: UTM
COORDINATE_ZONE: 12
HORIZONTAL_UNITS: METERS
HORIZONTAL_RESOLUTION: 1.00000
SECONDARY_HORIZONTAL_DATUM: NAD27
XY_ORIGIN: 374943.00000 5158131.00000
SECONDARY_XY_ORIGIN: 375005.81300 5157918.98700
NATION: US
NATION: "SCIENCE
STATE: MT
NW_QUAD_CORNER_XY: 375454.51700 5157830.80500
NE_QUAD_CORNER_XY: 380244.66400 5157734.02800
SE_QUAD_CORNERY_XY: 380107.18200 5150789.33600
SW_QUAD_CORNER_XY: 375311.53300 5150886.12400
SECONDARY_NW_QUAD_XY: 375450.71400 5157612.52900
SECONDARY_NE_QUAD_XY: 380241.00700 5157515.75000
SECONDARY_SE_QUAD_XY: 380103.52600 5150571.09200
SECONDARY_SW_QUAD_XY: 375307.73100 5150667.88300
RMSE_XY: 4.40000
IMAGE_SOURCE: BLACK AND WHITE FILM
SOURCE_IMAGE_ID: NAPP 8386 047
SOURCE_IMAGE_DATE: 1995 08 05
SOURCE_IMAGE_ID: NAPP 8382 061
SOURCE_IMAGE_DATE: 1995 08 01
SOURCE_IMAGE_ID: NAPP 8386 046
SOURCE_IMAGE_DATE: 1995 08 05
SOURCE_DEM_DATE: 2000 01 01
AGENCY: WESTERN MAPPING CENTER (WMC)
PRODUCER: UNDEFINED
PRODUCTION_SYSTEM: GIS/MAGIC
COMPRESSION: UNDEFINED
STANDARD_VERSION: 1996 12
METADATA_DATE: 2000 05 31
DATA_FILE_SIZE: 42874156
BYTE_COUNT: 5603
