FILENAME: O4611226.NES.1077147.tif
QUADRANGLE_NAME: GARRISON
QUADRANT: NE
WEST_LONGITUDE: -112 48 45.00000
EAST_LONGITUDE: -112 45 0.00000
NORTH_LATITUDE: 46 37 30.00000
SOUTH_LATITUDE: 46 33 45.00000
PRODUCTION_DATE: 2000 5 10
RASTER_ORDER: LEFT_RIGHT/TOP_BOTTOM
BAND_ORGANIZATION: SINGLE FILE
BAND_CONTENT: BLACK&WHITE
BAND_CONTENT: UNDEFINED
BAND_CONTENT: UNDEFINED
BITS_PER_PIXEL: 8
SAMPLES_AND_LINES: 5615 7662
HORIZONTAL_DATUM: NAD83
HORIZONTAL_COORDINATE_SYSTEM: UTM
COORDINATE_ZONE: 12
HORIZONTAL_UNITS: METERS
HORIZONTAL_RESOLUTION: 1.00000
SECONDARY_HORIZONTAL_DATUM: NAD27
XY_ORIGIN: 360715.00000 5165389.00000
SECONDARY_XY_ORIGIN: 360778.15600 5165176.72800
NATION: US
NATION: "SCIENCE
STATE: MT
NW_QUAD_CORNER_XY: 361243.78500 5165088.63200
NE_QUAD_CORNER_XY: 366028.39800 5164980.47700
SE_QUAD_CORNERY_XY: 365874.24900 5158035.75000
SW_QUAD_CORNER_XY: 361084.12700 5158143.91800
SECONDARY_NW_QUAD_XY: 361239.54200 5164870.33200
SECONDARY_NE_QUAD_XY: 366024.30200 5164762.17300
SECONDARY_SE_QUAD_XY: 365870.15300 5157817.48000
SECONDARY_SW_QUAD_XY: 361079.88500 5157925.65200
RMSE_XY: 4.30000
IMAGE_SOURCE: BLACK AND WHITE FILM
SOURCE_IMAGE_ID: NAPP 9485 069
SOURCE_IMAGE_DATE: 1995 08 20
SOURCE_IMAGE_ID: NAPP 9485 068
SOURCE_IMAGE_DATE: 1995 08 20
SOURCE_IMAGE_ID: NAPP 9485 070
SOURCE_IMAGE_DATE: 1995 08 20
SOURCE_IMAGE_ID: NAPP 9485 031
SOURCE_IMAGE_DATE: 1995 08 20
SOURCE_IMAGE_ID: NAPP 9485 029
SOURCE_IMAGE_DATE: 1995 08 20
SOURCE_DEM_DATE: 1991 00 00
AGENCY: WESTERN MAPPING CENTER (WMC)
PRODUCER: UNDEFINED
PRODUCTION_SYSTEM: GIS/MAGIC
COMPRESSION: UNDEFINED
STANDARD_VERSION: 1996 12
METADATA_DATE: 2000 05 30
DATA_FILE_SIZE: 43027745
BYTE_COUNT: 5615
