FILENAME: O4611224.SES.956530.tif
QUADRANGLE_NAME: SCRATCHGRAVEL HILLS
QUADRANT: SE
WEST_LONGITUDE: -112 3 45.00000
EAST_LONGITUDE: -112 0 0.00000
NORTH_LATITUDE: 46 41 15.00000
SOUTH_LATITUDE: 46 37 30.00000
PRODUCTION_DATE: 1998 12 30
RASTER_ORDER: LEFT_RIGHT/TOP_BOTTOM
BAND_ORGANIZATION: SINGLE FILE
BAND_CONTENT: BLACK&WHITE
BAND_CONTENT: UNDEFINED
BAND_CONTENT: UNDEFINED
BITS_PER_PIXEL: 8
SAMPLES_AND_LINES: 5550 7650
HORIZONTAL_DATUM: NAD83
HORIZONTAL_COORDINATE_SYSTEM: UTM
COORDINATE_ZONE: 12
HORIZONTAL_UNITS: METERS
HORIZONTAL_RESOLUTION: 1.00000
SECONDARY_HORIZONTAL_DATUM: NAD27
XY_ORIGIN: 418290.00000 5171310.00000
SECONDARY_XY_ORIGIN: 418351.38100 5171097.83000
NATION: US
STATE: MT
NW_QUAD_CORNER_XY: 418753.32800 5170986.23700
NE_QUAD_CORNER_XY: 423532.51500 5170923.64100
SE_QUAD_CORNERY_XY: 423444.35500 5163978.72100
SW_QUAD_CORNER_XY: 418659.65600 5164041.32500
SECONDARY_NW_QUAD_XY: 418750.84000 5170767.87200
SECONDARY_NE_QUAD_XY: 423530.17400 5170705.27400
SECONDARY_SE_QUAD_XY: 423442.01400 5163760.38700
SECONDARY_SW_QUAD_XY: 418657.16900 5163822.99300
RMSE_XY: 0.99000
IMAGE_SOURCE: BLACK AND WHITE FILM
SOURCE_IMAGE_ID: NAPP 8388 32
SOURCE_IMAGE_DATE: 1995 08 09
SOURCE_DEM_DATE: 1998 01 01
AGENCY: WESTERN MAPPING CENTER (WMC)
PRODUCER: ANALYTICAL SURVEYS INC.
PRODUCTION_SYSTEM: ORBIT OR_RECTIFY V.5.2
COMPRESSION: UNDEFINED
STANDARD_VERSION: 1996 12
METADATA_DATE: 1999 01 05
DATA_FILE_SIZE: 42463050
BYTE_COUNT: 5550
