FILENAME: O4611221.NES.965208.tif
QUADRANGLE_NAME: ESMERALDA HILL
QUADRANT: NE
WEST_LONGITUDE: -112 26 15.00000
EAST_LONGITUDE: -112 22 30.00000
NORTH_LATITUDE: 46 45 0.00000
SOUTH_LATITUDE: 46 41 15.00000
PRODUCTION_DATE: 1998 12 28
RASTER_ORDER: LEFT_RIGHT/TOP_BOTTOM
BAND_ORGANIZATION: SINGLE FILE
BAND_CONTENT: BLACK&WHITE
BAND_CONTENT: UNDEFINED
BAND_CONTENT: UNDEFINED
BITS_PER_PIXEL: 8
SAMPLES_AND_LINES: 5580 7650
HORIZONTAL_DATUM: NAD83
HORIZONTAL_COORDINATE_SYSTEM: UTM
COORDINATE_ZONE: 12
HORIZONTAL_UNITS: METERS
HORIZONTAL_RESOLUTION: 1.00000
SECONDARY_HORIZONTAL_DATUM: NAD27
XY_ORIGIN: 389700.00000 5178690.00000
SECONDARY_XY_ORIGIN: 389762.23300 5178477.41900
NATION: US
STATE: MT
NW_QUAD_CORNER_XY: 390205.20700 5178386.43400
NE_QUAD_CORNER_XY: 394978.83800 5178301.07900
SE_QUAD_CORNERY_XY: 394857.48100 5171356.14000
SW_QUAD_CORNER_XY: 390078.33200 5171441.50600
SECONDARY_NW_QUAD_XY: 390201.84100 5178168.05000
SECONDARY_NE_QUAD_XY: 394975.61800 5178082.69300
SECONDARY_SE_QUAD_XY: 394854.26200 5171137.78700
SECONDARY_SW_QUAD_XY: 390074.96700 5171223.15500
RMSE_XY: 1.29000
IMAGE_SOURCE: BLACK AND WHITE FILM
SOURCE_IMAGE_ID: NAPP 9486 52
SOURCE_IMAGE_DATE: 1995 08 20
SOURCE_DEM_DATE: 1997 00 00
AGENCY: WESTERN MAPPING CENTER (WMC)
PRODUCER: ANALYTICAL SURVEYS INC.
PRODUCTION_SYSTEM: ORBIT OR_RECTIFY V.5.2
COMPRESSION: UNDEFINED
STANDARD_VERSION: 1996 12
METADATA_DATE: 1999 02 04
DATA_FILE_SIZE: 42692580
BYTE_COUNT: 5580
