FILENAME: O4611220.NES.965196.tif
QUADRANGLE_NAME: OPHIR CREEK
QUADRANT: NE
WEST_LONGITUDE: -112 33 45.00000
EAST_LONGITUDE: -112 30 0.00000
NORTH_LATITUDE: 46 45 0.00000
SOUTH_LATITUDE: 46 41 15.00000
PRODUCTION_DATE: 1998 12 23
RASTER_ORDER: LEFT_RIGHT/TOP_BOTTOM
BAND_ORGANIZATION: SINGLE FILE
BAND_CONTENT: BLACK&WHITE
BAND_CONTENT: UNDEFINED
BAND_CONTENT: UNDEFINED
BITS_PER_PIXEL: 8
SAMPLES_AND_LINES: 5610 7650
HORIZONTAL_DATUM: NAD83
HORIZONTAL_COORDINATE_SYSTEM: UTM
COORDINATE_ZONE: 12
HORIZONTAL_UNITS: METERS
HORIZONTAL_RESOLUTION: 1.00000
SECONDARY_HORIZONTAL_DATUM: NAD27
XY_ORIGIN: 380130.00000 5178870.00000
SECONDARY_XY_ORIGIN: 380192.52600 5178657.36000
NATION: US
STATE: MT
NW_QUAD_CORNER_XY: 380657.96900 5178568.52900
NE_QUAD_CORNER_XY: 385431.58400 5178475.58400
SE_QUAD_CORNERY_XY: 385299.19100 5171530.66800
SW_QUAD_CORNER_XY: 380520.05800 5171623.62500
SECONDARY_NW_QUAD_XY: 380654.31100 5178350.15100
SECONDARY_NE_QUAD_XY: 385428.07200 5178257.20300
SECONDARY_SE_QUAD_XY: 385295.67900 5171312.31900
SECONDARY_SW_QUAD_XY: 380516.40000 5171405.27900
RMSE_XY: 1.86000
IMAGE_SOURCE: BLACK AND WHITE FILM
SOURCE_IMAGE_ID: NAPP 9486 135
SOURCE_IMAGE_DATE: 1995 08 20
SOURCE_IMAGE_ID: NAPP 9486 137
SOURCE_IMAGE_DATE: 1995 08 20
SOURCE_IMAGE_ID: NAPP 8386 41
SOURCE_IMAGE_DATE: 1995 08 05
SOURCE_DEM_DATE: 1991 00 00
AGENCY: WESTERN MAPPING CENTER (WMC)
PRODUCER: ANALYTICAL SURVEYS INC.
PRODUCTION_SYSTEM: ORBIT OR_RECTIFY V.5.2
COMPRESSION: UNDEFINED
STANDARD_VERSION: 1996 12
METADATA_DATE: 1999 02 04
DATA_FILE_SIZE: 42922110
BYTE_COUNT: 5610
