FILENAME: O4611219.NWS.1078924.tif
QUADRANGLE_NAME: GRAVELY MOUNTAIN
QUADRANT: NW
WEST_LONGITUDE: -112 45 0.00000
EAST_LONGITUDE: -112 41 15.00000
NORTH_LATITUDE: 46 45 0.00000
SOUTH_LATITUDE: 46 41 15.00000
PRODUCTION_DATE: 2000 3 28
RASTER_ORDER: LEFT_RIGHT/TOP_BOTTOM
BAND_ORGANIZATION: SINGLE FILE
BAND_CONTENT: BLACK&WHITE
BAND_CONTENT: UNDEFINED
BAND_CONTENT: UNDEFINED
BITS_PER_PIXEL: 8
SAMPLES_AND_LINES: 5598 7658
HORIZONTAL_DATUM: NAD83
HORIZONTAL_COORDINATE_SYSTEM: UTM
COORDINATE_ZONE: 12
HORIZONTAL_UNITS: METERS
HORIZONTAL_RESOLUTION: 1.00000
SECONDARY_HORIZONTAL_DATUM: NAD27
XY_ORIGIN: 365814.00000 5179171.00000
SECONDARY_XY_ORIGIN: 365876.99400 5178958.27800
NATION: US
NATION: "SCIENCE
STATE: MT
NW_QUAD_CORNER_XY: 366337.17800 5178870.13800
NE_QUAD_CORNER_XY: 371110.76600 5178765.80600
SE_QUAD_CORNERY_XY: 370961.81600 5171820.92700
SW_QUAD_CORNER_XY: 366182.70800 5171925.27300
SECONDARY_NW_QUAD_XY: 366333.08000 5178651.76900
SECONDARY_NE_QUAD_XY: 371106.81500 5178547.43400
SECONDARY_SE_QUAD_XY: 370957.86500 5171602.58800
SECONDARY_SW_QUAD_XY: 366178.61100 5171706.93600
RMSE_XY: 3.50000
IMAGE_SOURCE: BLACK AND WHITE FILM
SOURCE_IMAGE_ID: NAPP 9485 026
SOURCE_IMAGE_DATE: 1995 08 20
SOURCE_IMAGE_ID: NAPP 9485 027
SOURCE_IMAGE_DATE: 1995 08 20
SOURCE_DEM_DATE: 1991 00 00
AGENCY: WESTERN MAPPING CENTER (WMC)
PRODUCER: UNDEFINED
PRODUCTION_SYSTEM: GIS/MAGIC
COMPRESSION: UNDEFINED
STANDARD_VERSION: 1996 12
METADATA_DATE: 2000 05 27
DATA_FILE_SIZE: 42875082
BYTE_COUNT: 5598
