FILENAME: O4611218.SES.1078917.tif
QUADRANGLE_NAME: WINDY ROCK
QUADRANT: SE
WEST_LONGITUDE: -112 48 45.00000
EAST_LONGITUDE: -112 45 0.00000
NORTH_LATITUDE: 46 41 15.00000
SOUTH_LATITUDE: 46 37 30.00000
PRODUCTION_DATE: 2000 3 30
RASTER_ORDER: LEFT_RIGHT/TOP_BOTTOM
BAND_ORGANIZATION: SINGLE FILE
BAND_CONTENT: BLACK&WHITE
BAND_CONTENT: UNDEFINED
BAND_CONTENT: UNDEFINED
BITS_PER_PIXEL: 8
SAMPLES_AND_LINES: 5609 7662
HORIZONTAL_DATUM: NAD83
HORIZONTAL_COORDINATE_SYSTEM: UTM
COORDINATE_ZONE: 12
HORIZONTAL_UNITS: METERS
HORIZONTAL_RESOLUTION: 1.00000
SECONDARY_HORIZONTAL_DATUM: NAD27
XY_ORIGIN: 360875.00000 5172334.00000
SECONDARY_XY_ORIGIN: 360938.13400 5172121.50700
NATION: US
NATION: "SCIENCE
STATE: MT
NW_QUAD_CORNER_XY: 361403.60900 5172033.41500
NE_QUAD_CORNER_XY: 366182.70800 5171925.27300
SE_QUAD_CORNERY_XY: 366028.39800 5164980.47700
SW_QUAD_CORNER_XY: 361243.78500 5165088.63200
SECONDARY_NW_QUAD_XY: 361399.36600 5171815.08200
SECONDARY_NE_QUAD_XY: 366178.61100 5171706.93600
SECONDARY_SE_QUAD_XY: 366024.30200 5164762.17300
SECONDARY_SW_QUAD_XY: 361239.54200 5164870.33200
RMSE_XY: 2.20000
IMAGE_SOURCE: BLACK AND WHITE FILM
SOURCE_IMAGE_ID: NAPP 9485 071
SOURCE_IMAGE_DATE: 1995 08 20
SOURCE_IMAGE_ID: NAPP 9485 070
SOURCE_IMAGE_DATE: 1995 08 20
SOURCE_IMAGE_ID: NAPP 9485 072
SOURCE_IMAGE_DATE: 1995 08 20
SOURCE_IMAGE_ID: NAPP 9485 029
SOURCE_IMAGE_DATE: 1995 08 20
SOURCE_DEM_DATE: 1984 00 00
AGENCY: WESTERN MAPPING CENTER (WMC)
PRODUCER: UNDEFINED
PRODUCTION_SYSTEM: GIS/MAGIC
COMPRESSION: UNDEFINED
STANDARD_VERSION: 1996 12
METADATA_DATE: 2000 05 27
DATA_FILE_SIZE: 42981767
BYTE_COUNT: 5609
