FILENAME: O4611217.NES.1078903.tif
QUADRANGLE_NAME: BAILEY MOUNTAIN
QUADRANT: NE
WEST_LONGITUDE: -112 56 15.00000
EAST_LONGITUDE: -112 52 30.00000
NORTH_LATITUDE: 46 45 0.00000
SOUTH_LATITUDE: 46 41 15.00000
PRODUCTION_DATE: 2000 5 27
RASTER_ORDER: LEFT_RIGHT/TOP_BOTTOM
BAND_ORGANIZATION: SINGLE FILE
BAND_CONTENT: BLACK&WHITE
BAND_CONTENT: UNDEFINED
BAND_CONTENT: UNDEFINED
BITS_PER_PIXEL: 8
SAMPLES_AND_LINES: 5616 7669
HORIZONTAL_DATUM: NAD83
HORIZONTAL_COORDINATE_SYSTEM: UTM
COORDINATE_ZONE: 12
HORIZONTAL_UNITS: METERS
HORIZONTAL_RESOLUTION: 1.00000
SECONDARY_HORIZONTAL_DATUM: NAD27
XY_ORIGIN: 351476.00000 5179506.00000
SECONDARY_XY_ORIGIN: 351539.35600 5179293.31200
NATION: US
NATION: "SCIENCE
STATE: MT
NW_QUAD_CORNER_XY: 352016.47200 5179205.91200
NE_QUAD_CORNER_XY: 356790.03100 5179090.19100
SE_QUAD_CORNERY_XY: 356624.52000 5172145.35400
SW_QUAD_CORNER_XY: 351845.44100 5172261.09000
SECONDARY_NW_QUAD_XY: 352011.93500 5178987.55400
SECONDARY_NE_QUAD_XY: 356785.64000 5178871.82900
SECONDARY_SE_QUAD_XY: 356620.13000 5171927.02400
SECONDARY_SW_QUAD_XY: 351840.90500 5172042.76400
RMSE_XY: 2.80000
IMAGE_SOURCE: BLACK AND WHITE FILM
SOURCE_IMAGE_ID: NAPP 9489 059
SOURCE_IMAGE_DATE: 1995 08 28
SOURCE_IMAGE_ID: NAPP 9489 058
SOURCE_IMAGE_DATE: 1995 08 28
SOURCE_DEM_DATE: 1991 00 00
AGENCY: WESTERN MAPPING CENTER (WMC)
PRODUCER: UNDEFINED
PRODUCTION_SYSTEM: GIS/MAGIC
COMPRESSION: UNDEFINED
STANDARD_VERSION: 1996 12
METADATA_DATE: 2000 05 27
DATA_FILE_SIZE: 43074720
BYTE_COUNT: 5616
