FILENAME: O4611217.NWS.1078904.tif
QUADRANGLE_NAME: BAILEY MOUNTAIN
QUADRANT: NW
WEST_LONGITUDE: -113 0 0.00000
EAST_LONGITUDE: -112 56 15.00000
NORTH_LATITUDE: 46 45 0.00000
SOUTH_LATITUDE: 46 41 15.00000
PRODUCTION_DATE: 2000 3 30
RASTER_ORDER: LEFT_RIGHT/TOP_BOTTOM
BAND_ORGANIZATION: SINGLE FILE
BAND_CONTENT: BLACK&WHITE
BAND_CONTENT: UNDEFINED
BAND_CONTENT: UNDEFINED
BITS_PER_PIXEL: 8
SAMPLES_AND_LINES: 5621 7673
HORIZONTAL_DATUM: NAD83
HORIZONTAL_COORDINATE_SYSTEM: UTM
COORDINATE_ZONE: 12
HORIZONTAL_UNITS: METERS
HORIZONTAL_RESOLUTION: 1.00000
SECONDARY_HORIZONTAL_DATUM: NAD27
XY_ORIGIN: 346697.00000 5179626.00000
SECONDARY_XY_ORIGIN: 346760.47800 5179413.32400
NATION: US
NATION: "SCIENCE
STATE: MT
NW_QUAD_CORNER_XY: 347242.92500 5179325.43000
NE_QUAD_CORNER_XY: 352016.47200 5179205.91200
SE_QUAD_CORNERY_XY: 351845.44100 5172261.09000
SW_QUAD_CORNER_XY: 347066.37200 5172380.62400
SECONDARY_NW_QUAD_XY: 347238.24100 5179107.07600
SECONDARY_NE_QUAD_XY: 352011.93500 5178987.55400
SECONDARY_SE_QUAD_XY: 351840.90500 5172042.76400
SECONDARY_SW_QUAD_XY: 347061.68900 5172162.30100
RMSE_XY: 3.90000
IMAGE_SOURCE: BLACK AND WHITE FILM
SOURCE_IMAGE_ID: NAPP 9489 008
SOURCE_IMAGE_DATE: 1995 08 28
SOURCE_IMAGE_ID: NAPP 9489 009
SOURCE_IMAGE_DATE: 1995 08 28
SOURCE_DEM_DATE: 1991 00 00
AGENCY: WESTERN MAPPING CENTER (WMC)
PRODUCER: UNDEFINED
PRODUCTION_SYSTEM: GIS/MAGIC
COMPRESSION: UNDEFINED
STANDARD_VERSION: 1996 12
METADATA_DATE: 2000 05 27
DATA_FILE_SIZE: 43135554
BYTE_COUNT: 5621
