FILENAME: O4611216.NES.956524.tif
QUADRANGLE_NAME: RATTLESNAKE MOUNTAIN
QUADRANT: NE
WEST_LONGITUDE: -112 3 45.00000
EAST_LONGITUDE: -112 0 0.00000
NORTH_LATITUDE: 46 52 30.00000
SOUTH_LATITUDE: 46 48 45.00000
PRODUCTION_DATE: 1998 12 30
RASTER_ORDER: LEFT_RIGHT/TOP_BOTTOM
BAND_ORGANIZATION: SINGLE FILE
BAND_CONTENT: BLACK&WHITE
BAND_CONTENT: UNDEFINED
BAND_CONTENT: UNDEFINED
BITS_PER_PIXEL: 8
SAMPLES_AND_LINES: 5550 7650
HORIZONTAL_DATUM: NAD83
HORIZONTAL_COORDINATE_SYSTEM: UTM
COORDINATE_ZONE: 12
HORIZONTAL_UNITS: METERS
HORIZONTAL_RESOLUTION: 1.00000
SECONDARY_HORIZONTAL_DATUM: NAD27
XY_ORIGIN: 418560.00000 5192130.00000
SECONDARY_XY_ORIGIN: 418621.26200 5191917.30100
NATION: US
STATE: MT
NW_QUAD_CORNER_XY: 419034.92500 5191821.41500
NE_QUAD_CORNER_XY: 423797.54500 5191758.84300
SE_QUAD_CORNERY_XY: 423709.11000 5184813.70200
SW_QUAD_CORNER_XY: 418940.96200 5184876.28200
SECONDARY_NW_QUAD_XY: 419032.43600 5191602.95600
SECONDARY_NE_QUAD_XY: 423795.20200 5191540.38200
SECONDARY_SE_QUAD_XY: 423706.76800 5184595.27200
SECONDARY_SW_QUAD_XY: 418938.47400 5184657.85300
RMSE_XY: 1.03000
IMAGE_SOURCE: BLACK AND WHITE FILM
SOURCE_IMAGE_ID: NAPP 8388 26
SOURCE_IMAGE_DATE: 1995 08 09
SOURCE_DEM_DATE: 1997 00 00
AGENCY: WESTERN MAPPING CENTER (WMC)
PRODUCER: ANALYTICAL SURVEYS INC.
PRODUCTION_SYSTEM: ORBIT OR_RECTIFY V.5.2
COMPRESSION: UNDEFINED
STANDARD_VERSION: 1996 12
METADATA_DATE: 1999 01 05
DATA_FILE_SIZE: 42463050
BYTE_COUNT: 5550
