FILENAME: O4611215.NWS.956489.tif
QUADRANGLE_NAME: SILVER CITY
QUADRANT: NW
WEST_LONGITUDE: -112 15 0.00000
EAST_LONGITUDE: -112 11 15.00000
NORTH_LATITUDE: 46 52 30.00000
SOUTH_LATITUDE: 46 48 45.00000
PRODUCTION_DATE: 1998 12 29
RASTER_ORDER: LEFT_RIGHT/TOP_BOTTOM
BAND_ORGANIZATION: SINGLE FILE
BAND_CONTENT: BLACK&WHITE
BAND_CONTENT: UNDEFINED
BAND_CONTENT: UNDEFINED
BITS_PER_PIXEL: 8
SAMPLES_AND_LINES: 5580 7650
HORIZONTAL_DATUM: NAD83
HORIZONTAL_COORDINATE_SYSTEM: UTM
COORDINATE_ZONE: 12
HORIZONTAL_UNITS: METERS
HORIZONTAL_RESOLUTION: 1.00000
SECONDARY_HORIZONTAL_DATUM: NAD27
XY_ORIGIN: 404250.00000 5192340.00000
SECONDARY_XY_ORIGIN: 404311.70700 5192127.18700
NATION: US
STATE: MT
NW_QUAD_CORNER_XY: 404747.10500 5192031.88800
NE_QUAD_CORNER_XY: 409509.70500 5191957.93700
SE_QUAD_CORNERY_XY: 409404.68500 5185012.82300
SW_QUAD_CORNER_XY: 404636.55600 5185086.78400
SECONDARY_NW_QUAD_XY: 404744.17700 5191813.43500
SECONDARY_NE_QUAD_XY: 409506.92300 5191739.48200
SECONDARY_SE_QUAD_XY: 409401.90400 5184794.39900
SECONDARY_SW_QUAD_XY: 404633.62800 5184868.36200
RMSE_XY: 3.57000
IMAGE_SOURCE: BLACK AND WHITE FILM
SOURCE_IMAGE_ID: NAPP 9486 240
SOURCE_IMAGE_DATE: 1995 08 20
SOURCE_DEM_DATE: 1997 00 00
AGENCY: WESTERN MAPPING CENTER (WMC)
PRODUCER: ANALYTICAL SURVEYS INC.
PRODUCTION_SYSTEM: ORBIT OR_RECTIFY V.5.2
COMPRESSION: UNDEFINED
STANDARD_VERSION: 1996 12
METADATA_DATE: 1999 01 04
DATA_FILE_SIZE: 42692580
BYTE_COUNT: 5580
