FILENAME: O4611215.SES.956490.tif
QUADRANGLE_NAME: SILVER CITY
QUADRANT: SE
WEST_LONGITUDE: -112 11 15.00000
EAST_LONGITUDE: -112 7 30.00000
NORTH_LATITUDE: 46 48 45.00000
SOUTH_LATITUDE: 46 45 0.00000
PRODUCTION_DATE: 1998 12 29
RASTER_ORDER: LEFT_RIGHT/TOP_BOTTOM
BAND_ORGANIZATION: SINGLE FILE
BAND_CONTENT: BLACK&WHITE
BAND_CONTENT: UNDEFINED
BAND_CONTENT: UNDEFINED
BITS_PER_PIXEL: 8
SAMPLES_AND_LINES: 5550 7650
HORIZONTAL_DATUM: NAD83
HORIZONTAL_COORDINATE_SYSTEM: UTM
COORDINATE_ZONE: 12
HORIZONTAL_UNITS: METERS
HORIZONTAL_RESOLUTION: 1.00000
SECONDARY_HORIZONTAL_DATUM: NAD27
XY_ORIGIN: 408930.00000 5185320.00000
SECONDARY_XY_ORIGIN: 408991.61100 5185107.39500
NATION: US
STATE: MT
NW_QUAD_CORNER_XY: 409404.68500 5185012.82300
NE_QUAD_CORNER_XY: 414172.82000 5184942.65600
SE_QUAD_CORNERY_XY: 414073.43200 5177997.60500
SW_QUAD_CORNER_XY: 409299.77300 5178067.78200
SECONDARY_NW_QUAD_XY: 409401.90400 5184794.39900
SECONDARY_NE_QUAD_XY: 414170.18600 5184724.22900
SECONDARY_SE_QUAD_XY: 414070.79700 5177779.21000
SECONDARY_SW_QUAD_XY: 409296.99300 5177849.38900
RMSE_XY: 2.05000
IMAGE_SOURCE: BLACK AND WHITE FILM
SOURCE_IMAGE_ID: NAPP 8388 74
SOURCE_IMAGE_DATE: 1995 08 09
SOURCE_DEM_DATE: 1997 00 00
AGENCY: WESTERN MAPPING CENTER (WMC)
PRODUCER: ANALYTICAL SURVEYS INC.
PRODUCTION_SYSTEM: ORBIT OR_RECTIFY V.5.2
COMPRESSION: UNDEFINED
STANDARD_VERSION: 1996 12
METADATA_DATE: 1999 01 04
DATA_FILE_SIZE: 42463050
BYTE_COUNT: 5550
