FILENAME: O4611215.SWS.956491.tif
QUADRANGLE_NAME: SILVER CITY
QUADRANT: SW
WEST_LONGITUDE: -112 15 0.00000
EAST_LONGITUDE: -112 11 15.00000
NORTH_LATITUDE: 46 48 45.00000
SOUTH_LATITUDE: 46 45 0.00000
PRODUCTION_DATE: 1998 12 29
RASTER_ORDER: LEFT_RIGHT/TOP_BOTTOM
BAND_ORGANIZATION: SINGLE FILE
BAND_CONTENT: BLACK&WHITE
BAND_CONTENT: UNDEFINED
BAND_CONTENT: UNDEFINED
BITS_PER_PIXEL: 8
SAMPLES_AND_LINES: 5550 7650
HORIZONTAL_DATUM: NAD83
HORIZONTAL_COORDINATE_SYSTEM: UTM
COORDINATE_ZONE: 12
HORIZONTAL_UNITS: METERS
HORIZONTAL_RESOLUTION: 1.00000
SECONDARY_HORIZONTAL_DATUM: NAD27
XY_ORIGIN: 404160.00000 5185410.00000
SECONDARY_XY_ORIGIN: 404221.76400 5185197.35500
NATION: US
STATE: MT
NW_QUAD_CORNER_XY: 404636.55600 5185086.78400
NE_QUAD_CORNER_XY: 409404.68500 5185012.82300
SE_QUAD_CORNERY_XY: 409299.77300 5178067.78200
SW_QUAD_CORNER_XY: 404526.12100 5178141.75300
SECONDARY_NW_QUAD_XY: 404633.62800 5184868.36200
SECONDARY_NE_QUAD_XY: 409401.90400 5184794.39900
SECONDARY_SE_QUAD_XY: 409296.99300 5177849.38900
SECONDARY_SW_QUAD_XY: 404523.19400 5177923.36200
RMSE_XY: 2.45000
IMAGE_SOURCE: BLACK AND WHITE FILM
SOURCE_IMAGE_ID: NAPP 9486 242
SOURCE_IMAGE_DATE: 1995 08 20
SOURCE_IMAGE_ID: NAPP 9486 240
SOURCE_IMAGE_DATE: 1995 08 20
SOURCE_IMAGE_ID: NAPP 9486 244
SOURCE_IMAGE_DATE: 1995 08 20
SOURCE_DEM_DATE: 1997 00 00
AGENCY: WESTERN MAPPING CENTER (WMC)
PRODUCER: ANALYTICAL SURVEYS INC.
PRODUCTION_SYSTEM: ORBIT OR_RECTIFY V.5.2
COMPRESSION: UNDEFINED
STANDARD_VERSION: 1996 12
METADATA_DATE: 1999 01 04
DATA_FILE_SIZE: 42463050
BYTE_COUNT: 5550
