FILENAME: O4611214.NES.966165.tif
QUADRANGLE_NAME: CANYON CREEK
QUADRANT: NE
WEST_LONGITUDE: -112 18 45.00000
EAST_LONGITUDE: -112 15 0.00000
NORTH_LATITUDE: 46 52 30.00000
SOUTH_LATITUDE: 46 48 45.00000
PRODUCTION_DATE: 1998 12 28
RASTER_ORDER: LEFT_RIGHT/TOP_BOTTOM
BAND_ORGANIZATION: SINGLE FILE
BAND_CONTENT: BLACK&WHITE
BAND_CONTENT: UNDEFINED
BAND_CONTENT: UNDEFINED
BITS_PER_PIXEL: 8
SAMPLES_AND_LINES: 5580 7650
HORIZONTAL_DATUM: NAD83
HORIZONTAL_COORDINATE_SYSTEM: UTM
COORDINATE_ZONE: 12
HORIZONTAL_UNITS: METERS
HORIZONTAL_RESOLUTION: 1.00000
SECONDARY_HORIZONTAL_DATUM: NAD27
XY_ORIGIN: 399480.00000 5192430.00000
SECONDARY_XY_ORIGIN: 399541.86000 5192217.13800
NATION: US
STATE: MT
NW_QUAD_CORNER_XY: 399984.51200 5192109.63200
NE_QUAD_CORNER_XY: 404747.10500 5192031.88800
SE_QUAD_CORNERY_XY: 404636.55600 5185086.78400
SW_QUAD_CORNER_XY: 399868.43400 5185164.53900
SECONDARY_NW_QUAD_XY: 399981.43800 5191891.18200
SECONDARY_NE_QUAD_XY: 404744.17700 5191813.43500
SECONDARY_SE_QUAD_XY: 404633.62800 5184868.36200
SECONDARY_SW_QUAD_XY: 399865.36000 5184946.12000
RMSE_XY: 2.91000
IMAGE_SOURCE: BLACK AND WHITE FILM
SOURCE_IMAGE_ID: NAPP 9486 217
SOURCE_IMAGE_DATE: 1995 08 20
SOURCE_DEM_DATE: 1998 01 01
AGENCY: WESTERN MAPPING CENTER (WMC)
PRODUCER: ANALYTICAL SURVEYS INC.
PRODUCTION_SYSTEM: ORBIT OR_RECTIFY V.5.2
COMPRESSION: UNDEFINED
STANDARD_VERSION: 1996 12
METADATA_DATE: 1999 02 06
DATA_FILE_SIZE: 42692580
BYTE_COUNT: 5580
