FILENAME: O4611214.SES.966167.tif
QUADRANGLE_NAME: CANYON CREEK
QUADRANT: SE
WEST_LONGITUDE: -112 18 45.00000
EAST_LONGITUDE: -112 15 0.00000
NORTH_LATITUDE: 46 48 45.00000
SOUTH_LATITUDE: 46 45 0.00000
PRODUCTION_DATE: 1998 12 28
RASTER_ORDER: LEFT_RIGHT/TOP_BOTTOM
BAND_ORGANIZATION: SINGLE FILE
BAND_CONTENT: BLACK&WHITE
BAND_CONTENT: UNDEFINED
BAND_CONTENT: UNDEFINED
BITS_PER_PIXEL: 8
SAMPLES_AND_LINES: 5580 7650
HORIZONTAL_DATUM: NAD83
HORIZONTAL_COORDINATE_SYSTEM: UTM
COORDINATE_ZONE: 12
HORIZONTAL_UNITS: METERS
HORIZONTAL_RESOLUTION: 1.00000
SECONDARY_HORIZONTAL_DATUM: NAD27
XY_ORIGIN: 399360.00000 5185470.00000
SECONDARY_XY_ORIGIN: 399421.90700 5185257.31500
NATION: US
STATE: MT
NW_QUAD_CORNER_XY: 399868.43400 5185164.53900
NE_QUAD_CORNER_XY: 404636.55600 5185086.78400
SE_QUAD_CORNERY_XY: 404526.12100 5178141.75300
SW_QUAD_CORNER_XY: 399752.47600 5178219.51800
SECONDARY_NW_QUAD_XY: 399865.36000 5184946.12000
SECONDARY_NE_QUAD_XY: 404633.62800 5184868.36200
SECONDARY_SE_QUAD_XY: 404523.19400 5177923.36200
SECONDARY_SW_QUAD_XY: 399749.40200 5178001.13000
RMSE_XY: 3.00000
IMAGE_SOURCE: BLACK AND WHITE FILM
SOURCE_IMAGE_ID: NAPP 9486 215
SOURCE_IMAGE_DATE: 1995 08 20
SOURCE_DEM_DATE: 1998 01 01
AGENCY: WESTERN MAPPING CENTER (WMC)
PRODUCER: ANALYTICAL SURVEYS INC.
PRODUCTION_SYSTEM: ORBIT OR_RECTIFY V.5.2
COMPRESSION: UNDEFINED
STANDARD_VERSION: 1996 12
METADATA_DATE: 1999 02 06
DATA_FILE_SIZE: 42692580
BYTE_COUNT: 5580
