FILENAME: O4611212.NWS.965193.tif
QUADRANGLE_NAME: NEVADA MOUNTAIN
QUADRANT: NW
WEST_LONGITUDE: -112 37 30.00000
EAST_LONGITUDE: -112 33 45.00000
NORTH_LATITUDE: 46 52 30.00000
SOUTH_LATITUDE: 46 48 45.00000
PRODUCTION_DATE: 1998 12 23
RASTER_ORDER: LEFT_RIGHT/TOP_BOTTOM
BAND_ORGANIZATION: SINGLE FILE
BAND_CONTENT: BLACK&WHITE
BAND_CONTENT: UNDEFINED
BAND_CONTENT: UNDEFINED
BITS_PER_PIXEL: 8
SAMPLES_AND_LINES: 5580 7680
HORIZONTAL_DATUM: NAD83
HORIZONTAL_COORDINATE_SYSTEM: UTM
COORDINATE_ZONE: 12
HORIZONTAL_UNITS: METERS
HORIZONTAL_RESOLUTION: 1.00000
SECONDARY_HORIZONTAL_DATUM: NAD27
XY_ORIGIN: 375660.00000 5192880.00000
SECONDARY_XY_ORIGIN: 375722.62100 5192666.96700
NATION: US
STATE: MT
NW_QUAD_CORNER_XY: 376171.67100 5192555.26300
NE_QUAD_CORNER_XY: 380934.22200 5192458.54900
SE_QUAD_CORNERY_XY: 380796.02400 5185513.50300
SW_QUAD_CORNER_XY: 376027.94300 5185610.23100
SECONDARY_NW_QUAD_XY: 376167.86500 5192336.82600
SECONDARY_NE_QUAD_XY: 380930.56200 5192240.10900
SECONDARY_SE_QUAD_XY: 380792.36500 5185295.09400
SECONDARY_SW_QUAD_XY: 376024.13700 5185391.82500
RMSE_XY: 2.49000
IMAGE_SOURCE: BLACK AND WHITE FILM
SOURCE_IMAGE_ID: NAPP 8386 37
SOURCE_IMAGE_DATE: 1995 08 05
SOURCE_DEM_DATE: 1997 00 00
AGENCY: WESTERN MAPPING CENTER (WMC)
PRODUCER: ANALYTICAL SURVEYS INC.
PRODUCTION_SYSTEM: ORBIT OR_RECTIFY V.5.2
COMPRESSION: UNDEFINED
STANDARD_VERSION: 1996 12
METADATA_DATE: 1999 02 04
DATA_FILE_SIZE: 42859980
BYTE_COUNT: 5580
