FILENAME: O4611212.SES.965194.tif
QUADRANGLE_NAME: NEVADA MOUNTAIN
QUADRANT: SE
WEST_LONGITUDE: -112 33 45.00000
EAST_LONGITUDE: -112 30 0.00000
NORTH_LATITUDE: 46 48 45.00000
SOUTH_LATITUDE: 46 45 0.00000
PRODUCTION_DATE: 1998 12 23
RASTER_ORDER: LEFT_RIGHT/TOP_BOTTOM
BAND_ORGANIZATION: SINGLE FILE
BAND_CONTENT: BLACK&WHITE
BAND_CONTENT: UNDEFINED
BAND_CONTENT: UNDEFINED
BITS_PER_PIXEL: 8
SAMPLES_AND_LINES: 5610 7680
HORIZONTAL_DATUM: NAD83
HORIZONTAL_COORDINATE_SYSTEM: UTM
COORDINATE_ZONE: 12
HORIZONTAL_UNITS: METERS
HORIZONTAL_RESOLUTION: 1.00000
SECONDARY_HORIZONTAL_DATUM: NAD27
XY_ORIGIN: 380280.00000 5185830.00000
SECONDARY_XY_ORIGIN: 380342.50500 5185617.16400
NATION: US
STATE: MT
NW_QUAD_CORNER_XY: 380796.02400 5185513.50300
NE_QUAD_CORNER_XY: 385564.11400 5185420.57100
SE_QUAD_CORNERY_XY: 385431.58400 5178475.58400
SW_QUAD_CORNER_XY: 380657.96900 5178568.52900
SECONDARY_NW_QUAD_XY: 380792.36500 5185295.09400
SECONDARY_NE_QUAD_XY: 385560.60100 5185202.15900
SECONDARY_SE_QUAD_XY: 385428.07200 5178257.20300
SECONDARY_SW_QUAD_XY: 380654.31100 5178350.15100
RMSE_XY: 1.19000
IMAGE_SOURCE: BLACK AND WHITE FILM
SOURCE_IMAGE_ID: NAPP 9486 137
SOURCE_IMAGE_DATE: 1995 08 20
SOURCE_IMAGE_ID: NAPP 9486 135
SOURCE_IMAGE_DATE: 1995 08 20
SOURCE_DEM_DATE: 1997 00 00
AGENCY: WESTERN MAPPING CENTER (WMC)
PRODUCER: ANALYTICAL SURVEYS INC.
PRODUCTION_SYSTEM: ORBIT OR_RECTIFY V.5.2
COMPRESSION: UNDEFINED
STANDARD_VERSION: 1996 12
METADATA_DATE: 1999 02 04
DATA_FILE_SIZE: 43090410
BYTE_COUNT: 5610
