FILENAME: O4611211.NWS.965045.tif
QUADRANGLE_NAME: FINN
QUADRANT: NW
WEST_LONGITUDE: -112 45 0.00000
EAST_LONGITUDE: -112 41 15.00000
NORTH_LATITUDE: 46 52 30.00000
SOUTH_LATITUDE: 46 48 45.00000
PRODUCTION_DATE: 1998 12 24
RASTER_ORDER: LEFT_RIGHT/TOP_BOTTOM
BAND_ORGANIZATION: SINGLE FILE
BAND_CONTENT: BLACK&WHITE
BAND_CONTENT: UNDEFINED
BAND_CONTENT: UNDEFINED
BITS_PER_PIXEL: 8
SAMPLES_AND_LINES: 5610 7710
HORIZONTAL_DATUM: NAD83
HORIZONTAL_COORDINATE_SYSTEM: UTM
COORDINATE_ZONE: 12
HORIZONTAL_UNITS: METERS
HORIZONTAL_RESOLUTION: 1.00000
SECONDARY_HORIZONTAL_DATUM: NAD27
XY_ORIGIN: 366120.00000 5193090.00000
SECONDARY_XY_ORIGIN: 366182.90700 5192876.95000
NATION: US
STATE: MT
NW_QUAD_CORNER_XY: 366646.59800 5192760.07600
NE_QUAD_CORNER_XY: 371409.13000 5192655.77200
SE_QUAD_CORNERY_XY: 371259.87100 5185710.75400
SW_QUAD_CORNER_XY: 366491.80800 5185815.07300
SECONDARY_NW_QUAD_XY: 366642.49900 5192541.64600
SECONDARY_NE_QUAD_XY: 371405.17700 5192437.33900
SECONDARY_SE_QUAD_XY: 371255.91900 5185492.35100
SECONDARY_SW_QUAD_XY: 366487.71000 5185596.67300
RMSE_XY: 1.22000
IMAGE_SOURCE: BLACK AND WHITE FILM
SOURCE_IMAGE_ID: NAPP 9485 22
SOURCE_IMAGE_DATE: 1995 08 20
SOURCE_DEM_DATE: 1997 00 00
AGENCY: WESTERN MAPPING CENTER (WMC)
PRODUCER: ANALYTICAL SURVEYS INC.
PRODUCTION_SYSTEM: ORBIT OR_RECTIFY V.5.2
COMPRESSION: UNDEFINED
STANDARD_VERSION: 1996 12
METADATA_DATE: 1998 12 29
DATA_FILE_SIZE: 43258710
BYTE_COUNT: 5610
