FILENAME: O4611210.SWS.949899.tif
QUADRANGLE_NAME: NEVADA LAKE
QUADRANT: SW
WEST_LONGITUDE: -112 52 30.00000
EAST_LONGITUDE: -112 48 45.00000
NORTH_LATITUDE: 46 48 45.00000
SOUTH_LATITUDE: 46 45 0.00000
PRODUCTION_DATE: 1998 12 22
RASTER_ORDER: LEFT_RIGHT/TOP_BOTTOM
BAND_ORGANIZATION: SINGLE FILE
BAND_CONTENT: BLACK&WHITE
BAND_CONTENT: UNDEFINED
BAND_CONTENT: UNDEFINED
BITS_PER_PIXEL: 8
SAMPLES_AND_LINES: 5640 7680
HORIZONTAL_DATUM: NAD83
HORIZONTAL_COORDINATE_SYSTEM: UTM
COORDINATE_ZONE: 12
HORIZONTAL_UNITS: METERS
HORIZONTAL_RESOLUTION: 1.00000
SECONDARY_HORIZONTAL_DATUM: NAD27
XY_ORIGIN: 356400.00000 5186340.00000
SECONDARY_XY_ORIGIN: 356463.13300 5186127.12200
NATION: US
STATE: MT
NW_QUAD_CORNER_XY: 356955.71300 5186035.09600
NE_QUAD_CORNER_XY: 361723.75500 5185923.18700
SE_QUAD_CORNERY_XY: 361563.59900 5178978.26700
SW_QUAD_CORNER_XY: 356790.03100 5179090.19100
SECONDARY_NW_QUAD_XY: 356951.32200 5185816.70300
SECONDARY_NE_QUAD_XY: 361719.51100 5185704.79000
SECONDARY_SE_QUAD_XY: 361559.35500 5178759.90100
SECONDARY_SW_QUAD_XY: 356785.64000 5178871.83000
RMSE_XY: 2.86000
IMAGE_SOURCE: BLACK AND WHITE FILM
SOURCE_IMAGE_ID: NAPP 9485 90
SOURCE_IMAGE_DATE: 1995 08 20
SOURCE_DEM_DATE: 1989 00 00
AGENCY: WESTERN MAPPING CENTER (WMC)
PRODUCER: ANALYTICAL SURVEYS INC.
PRODUCTION_SYSTEM: ORBIT OR_RECTIFY V.5.2
COMPRESSION: UNDEFINED
STANDARD_VERSION: 1996 12
METADATA_DATE: 1999 01 05
DATA_FILE_SIZE: 43320840
BYTE_COUNT: 5640
