FILENAME: O4611209.NES.1078899.tif
QUADRANGLE_NAME: HELMVILLE
QUADRANT: NE
WEST_LONGITUDE: -112 56 15.00000
EAST_LONGITUDE: -112 52 30.00000
NORTH_LATITUDE: 46 52 30.00000
SOUTH_LATITUDE: 46 48 45.00000
PRODUCTION_DATE: 2000 5 22
RASTER_ORDER: LEFT_RIGHT/TOP_BOTTOM
BAND_ORGANIZATION: SINGLE FILE
BAND_CONTENT: BLACK&WHITE
BAND_CONTENT: UNDEFINED
BAND_CONTENT: UNDEFINED
BITS_PER_PIXEL: 8
SAMPLES_AND_LINES: 5605 7669
HORIZONTAL_DATUM: NAD83
HORIZONTAL_COORDINATE_SYSTEM: UTM
COORDINATE_ZONE: 12
HORIZONTAL_UNITS: METERS
HORIZONTAL_RESOLUTION: 1.00000
SECONDARY_HORIZONTAL_DATUM: NAD27
XY_ORIGIN: 351818.00000 5193396.00000
SECONDARY_XY_ORIGIN: 351881.08200 5193182.92500
NATION: US
NATION: "SCIENCE
STATE: MT
NW_QUAD_CORNER_XY: 352359.06700 5193095.75900
NE_QUAD_CORNER_XY: 357121.56700 5192980.06900
SE_QUAD_CORNERY_XY: 356955.71300 5186035.09600
SW_QUAD_CORNER_XY: 352187.68100 5186150.80200
SECONDARY_NW_QUAD_XY: 352354.52900 5192877.33900
SECONDARY_NE_QUAD_XY: 357117.17500 5192761.64600
SECONDARY_SE_QUAD_XY: 356951.32200 5185816.70300
SECONDARY_SW_QUAD_XY: 352183.14300 5185932.41200
RMSE_XY: 2.60000
IMAGE_SOURCE: BLACK AND WHITE FILM
SOURCE_IMAGE_ID: NAPP 9489 055
SOURCE_IMAGE_DATE: 1995 08 28
SOURCE_IMAGE_ID: NAPP 9489 056
SOURCE_IMAGE_DATE: 1995 08 28
SOURCE_IMAGE_ID: NAPP 9489 054
SOURCE_IMAGE_DATE: 1995 08 28
SOURCE_DEM_DATE: 2000 01 01
AGENCY: WESTERN MAPPING CENTER (WMC)
PRODUCER: UNDEFINED
PRODUCTION_SYSTEM: GIS/MAGIC
COMPRESSION: UNDEFINED
STANDARD_VERSION: 1996 12
METADATA_DATE: 2000 05 27
DATA_FILE_SIZE: 42990350
BYTE_COUNT: 5605
